BEGIN:VCALENDAR
VERSION:2.0
PRODID:-//San Francisco Bay Times - ECPv5.1.0//NONSGML v1.0//EN
CALSCALE:GREGORIAN
METHOD:PUBLISH
X-WR-CALNAME:San Francisco Bay Times
X-ORIGINAL-URL:https://sfbaytimes.com
X-WR-CALDESC:Events for San Francisco Bay Times
BEGIN:VTIMEZONE
TZID:America/Los_Angeles
BEGIN:DAYLIGHT
TZOFFSETFROM:-0800
TZOFFSETTO:-0700
TZNAME:PDT
DTSTART:20170312T100000
END:DAYLIGHT
BEGIN:STANDARD
TZOFFSETFROM:-0700
TZOFFSETTO:-0800
TZNAME:PST
DTSTART:20171105T090000
END:STANDARD
END:VTIMEZONE
BEGIN:VEVENT
DTSTART;TZID=America/Los_Angeles:20171106T193000
DTEND;TZID=America/Los_Angeles:20171106T210000
DTSTAMP:20260425T113108
CREATED:20171101T183115Z
LAST-MODIFIED:20171101T183115Z
UID:14909-1509996600-1510002000@sfbaytimes.com
SUMMARY:Stonewall Project: Abstinence Skills Enhancement
DESCRIPTION:@ Strut\, Room 1\, 470 Castro Street. A support group helping participants remain abstinent from drugs and alcohol with a non-judgmental approach to relapse or slips. 7:30-9pm. strutsf.org  \n
URL:https://sfbaytimes.com/event/stonewall-project-abstinence-skills-enhancement-4/
END:VEVENT
END:VCALENDAR