BEGIN:VCALENDAR
VERSION:2.0
PRODID:-//San Francisco Bay Times - ECPv5.1.0//NONSGML v1.0//EN
CALSCALE:GREGORIAN
METHOD:PUBLISH
X-WR-CALNAME:San Francisco Bay Times
X-ORIGINAL-URL:https://sfbaytimes.com
X-WR-CALDESC:Events for San Francisco Bay Times
BEGIN:VTIMEZONE
TZID:America/Los_Angeles
BEGIN:DAYLIGHT
TZOFFSETFROM:-0800
TZOFFSETTO:-0700
TZNAME:PDT
DTSTART:20170312T100000
END:DAYLIGHT
BEGIN:STANDARD
TZOFFSETFROM:-0700
TZOFFSETTO:-0800
TZNAME:PST
DTSTART:20171105T090000
END:STANDARD
END:VTIMEZONE
BEGIN:VEVENT
DTSTART;TZID=America/Los_Angeles:20170903T110000
DTEND;TZID=America/Los_Angeles:20170903T140000
DTSTAMP:20260421T173609
CREATED:20170828T234554Z
LAST-MODIFIED:20170828T234554Z
UID:13974-1504436400-1504447200@sfbaytimes.com
SUMMARY:Sunday’s A Drag
DESCRIPTION:@ The Starlight Room\, Powell Street. Hosted by Donna Sachet\, the event features a brunch and a troupe of entertainers\ndescribed as “The Greatest Drag Show in San Francisco.” Two shows every Sunday at 11am and 2pm.\nstarlightroomsf.com \n
URL:https://sfbaytimes.com/event/sundays-a-drag-5/
END:VEVENT
END:VCALENDAR