BEGIN:VCALENDAR
VERSION:2.0
PRODID:-//San Francisco Bay Times - ECPv5.1.0//NONSGML v1.0//EN
CALSCALE:GREGORIAN
METHOD:PUBLISH
X-WR-CALNAME:San Francisco Bay Times
X-ORIGINAL-URL:https://sfbaytimes.com
X-WR-CALDESC:Events for San Francisco Bay Times
BEGIN:VTIMEZONE
TZID:America/Los_Angeles
BEGIN:DAYLIGHT
TZOFFSETFROM:-0800
TZOFFSETTO:-0700
TZNAME:PDT
DTSTART:20170312T100000
END:DAYLIGHT
BEGIN:STANDARD
TZOFFSETFROM:-0700
TZOFFSETTO:-0800
TZNAME:PST
DTSTART:20171105T090000
END:STANDARD
END:VTIMEZONE
BEGIN:VEVENT
DTSTART;TZID=America/Los_Angeles:20171104T140000
DTEND;TZID=America/Los_Angeles:20171104T210000
DTSTAMP:20260426T022901
CREATED:20171101T181719Z
LAST-MODIFIED:20171101T181719Z
UID:14891-1509804000-1509829200@sfbaytimes.com
SUMMARY:Superfest 31 International Disability Film Festival
DESCRIPTION:@ The Magnes Collection of Jewish Art & Life\, 2121 Allston Way\, Berkeley. The longest running disability film festival in the world presenting cutting-edge cinema portraying disability through a diverse and complex lens. 2-9pm.  filmfreeway.com/festival/superfest  \n
URL:https://sfbaytimes.com/event/superfest-31-international-disability-film-festival/
END:VEVENT
END:VCALENDAR