BEGIN:VCALENDAR
VERSION:2.0
PRODID:-//San Francisco Bay Times - ECPv5.1.0//NONSGML v1.0//EN
CALSCALE:GREGORIAN
METHOD:PUBLISH
X-WR-CALNAME:San Francisco Bay Times
X-ORIGINAL-URL:https://sfbaytimes.com
X-WR-CALDESC:Events for San Francisco Bay Times
BEGIN:VTIMEZONE
TZID:America/Los_Angeles
BEGIN:DAYLIGHT
TZOFFSETFROM:-0800
TZOFFSETTO:-0700
TZNAME:PDT
DTSTART:20190310T100000
END:DAYLIGHT
BEGIN:STANDARD
TZOFFSETFROM:-0700
TZOFFSETTO:-0800
TZNAME:PST
DTSTART:20191103T090000
END:STANDARD
END:VTIMEZONE
BEGIN:VEVENT
DTSTART;TZID=America/Los_Angeles:20190130T200000
DTEND;TZID=America/Los_Angeles:20190130T213000
DTSTAMP:20260420T110316
CREATED:20190124T232907Z
LAST-MODIFIED:20190124T232907Z
UID:21675-1548878400-1548883800@sfbaytimes.com
SUMMARY:Tender Is My Loin
DESCRIPTION:@ PianoFight\, 144 Taylor Street. Punk rock\, trans pioneer and chanteuse Bambi Lake joins with Cockettes songster Scrumbly Koldewyn and his Cirque du Scrumbello for Tender Is My Loin\, a musical revue and homage to The Tenderloin. 8-9:30pm. http://www.pianofight.com \n
URL:https://sfbaytimes.com/event/tender-is-my-loin/
END:VEVENT
END:VCALENDAR