BEGIN:VCALENDAR
VERSION:2.0
PRODID:-//San Francisco Bay Times - ECPv5.1.0//NONSGML v1.0//EN
CALSCALE:GREGORIAN
METHOD:PUBLISH
X-WR-CALNAME:San Francisco Bay Times
X-ORIGINAL-URL:https://sfbaytimes.com
X-WR-CALDESC:Events for San Francisco Bay Times
BEGIN:VTIMEZONE
TZID:America/Los_Angeles
BEGIN:DAYLIGHT
TZOFFSETFROM:-0800
TZOFFSETTO:-0700
TZNAME:PDT
DTSTART:20180311T100000
END:DAYLIGHT
BEGIN:STANDARD
TZOFFSETFROM:-0700
TZOFFSETTO:-0800
TZNAME:PST
DTSTART:20181104T090000
END:STANDARD
END:VTIMEZONE
BEGIN:VEVENT
DTSTART;TZID=America/Los_Angeles:20181122T120000
DTEND;TZID=America/Los_Angeles:20181122T150000
DTSTAMP:20260425T003649
CREATED:20181119T204030Z
LAST-MODIFIED:20181119T204030Z
UID:20524-1542888000-1542898800@sfbaytimes.com
SUMMARY:Thanksgiving Dinner
DESCRIPTION:@ Billy DeFrank LGBTQ+ Community Center\, Ballroom\, 938 The Alameda\, San Jose. “Pot Luck & Turkey” with fabulous people and great food where all are welcome. Noon-3pm. http://www.defrankcenter.org \n
URL:https://sfbaytimes.com/event/thanksgiving-dinner/
END:VEVENT
END:VCALENDAR