BEGIN:VCALENDAR
VERSION:2.0
PRODID:-//San Francisco Bay Times - ECPv5.1.0//NONSGML v1.0//EN
CALSCALE:GREGORIAN
METHOD:PUBLISH
X-WR-CALNAME:San Francisco Bay Times
X-ORIGINAL-URL:https://sfbaytimes.com
X-WR-CALDESC:Events for San Francisco Bay Times
BEGIN:VTIMEZONE
TZID:America/Los_Angeles
BEGIN:DAYLIGHT
TZOFFSETFROM:-0800
TZOFFSETTO:-0700
TZNAME:PDT
DTSTART:20170312T100000
END:DAYLIGHT
BEGIN:STANDARD
TZOFFSETFROM:-0700
TZOFFSETTO:-0800
TZNAME:PST
DTSTART:20171105T090000
END:STANDARD
END:VTIMEZONE
BEGIN:VEVENT
DTSTART;TZID=America/Los_Angeles:20171117T190000
DTEND;TZID=America/Los_Angeles:20171117T190000
DTSTAMP:20260422T214713
CREATED:20171114T231029Z
LAST-MODIFIED:20171114T231029Z
UID:15142-1510945200-1510945200@sfbaytimes.com
SUMMARY:The Joffrey Ballet
DESCRIPTION:@ Zellerbach Hall\, #4800 Berkeley. Cal Performances presents The Joffrey Ballet’s program featuring two West Coast Premieres and other recent works by choreographers Justin Peck\, Nicolas Blanc\, Alexander Ekman and Annabelle Lopez Ochoa. Nov 17\, 18 & 19.  calperformances.org  \n
URL:https://sfbaytimes.com/event/the-joffrey-ballet/
END:VEVENT
END:VCALENDAR