BEGIN:VCALENDAR
VERSION:2.0
PRODID:-//San Francisco Bay Times - ECPv5.1.0//NONSGML v1.0//EN
CALSCALE:GREGORIAN
METHOD:PUBLISH
X-WR-CALNAME:San Francisco Bay Times
X-ORIGINAL-URL:https://sfbaytimes.com
X-WR-CALDESC:Events for San Francisco Bay Times
BEGIN:VTIMEZONE
TZID:America/Los_Angeles
BEGIN:DAYLIGHT
TZOFFSETFROM:-0800
TZOFFSETTO:-0700
TZNAME:PDT
DTSTART:20170312T100000
END:DAYLIGHT
BEGIN:STANDARD
TZOFFSETFROM:-0700
TZOFFSETTO:-0800
TZNAME:PST
DTSTART:20171105T090000
END:STANDARD
END:VTIMEZONE
BEGIN:VEVENT
DTSTART;TZID=America/Los_Angeles:20170626T193000
DTEND;TZID=America/Los_Angeles:20170626T193000
DTSTAMP:20260422T043322
CREATED:20170620T205009Z
LAST-MODIFIED:20170620T205009Z
UID:12711-1498505400-1498505400@sfbaytimes.com
SUMMARY:The Kinsey  Sicks: Things You Shouldn’t Say!
DESCRIPTION:@ Oasis\, 298 11th Street. A comedic\, thought-provoking and inspiring show by the four-part harmony drag quartet addressing Trumpism\, racism\, AIDS\, extreme macramé\, Bette Midler and more. 7:30pm. oasissf.com \n
URL:https://sfbaytimes.com/event/the-kinsey-sicks-things-you-shouldnt-say/
END:VEVENT
END:VCALENDAR