BEGIN:VCALENDAR
VERSION:2.0
PRODID:-//San Francisco Bay Times - ECPv5.1.0//NONSGML v1.0//EN
CALSCALE:GREGORIAN
METHOD:PUBLISH
X-WR-CALNAME:San Francisco Bay Times
X-ORIGINAL-URL:https://sfbaytimes.com
X-WR-CALDESC:Events for San Francisco Bay Times
BEGIN:VTIMEZONE
TZID:America/Los_Angeles
BEGIN:DAYLIGHT
TZOFFSETFROM:-0800
TZOFFSETTO:-0700
TZNAME:PDT
DTSTART:20180311T100000
END:DAYLIGHT
BEGIN:STANDARD
TZOFFSETFROM:-0700
TZOFFSETTO:-0800
TZNAME:PST
DTSTART:20181104T090000
END:STANDARD
END:VTIMEZONE
BEGIN:VEVENT
DTSTART;VALUE=DATE:20180120
DTEND;VALUE=DATE:20180121
DTSTAMP:20260425T154834
CREATED:20180116T031241Z
LAST-MODIFIED:20180116T031241Z
UID:16219-1516406400-1516492799@sfbaytimes.com
SUMMARY:The Laramie Project
DESCRIPTION:@ Palo Alto Players-Peninsula Center Stage\, 1305 Middlefield Road\, Palo Alto. Palo Alto Players continues its season with the powerful drama based on the murder of Matthew Shepard in 1998. Continues through February 4. paplayers.org \n
URL:https://sfbaytimes.com/event/the-laramie-project/
END:VEVENT
END:VCALENDAR