BEGIN:VCALENDAR
VERSION:2.0
PRODID:-//San Francisco Bay Times - ECPv5.1.0//NONSGML v1.0//EN
CALSCALE:GREGORIAN
METHOD:PUBLISH
X-WR-CALNAME:San Francisco Bay Times
X-ORIGINAL-URL:https://sfbaytimes.com
X-WR-CALDESC:Events for San Francisco Bay Times
BEGIN:VTIMEZONE
TZID:America/Los_Angeles
BEGIN:DAYLIGHT
TZOFFSETFROM:-0800
TZOFFSETTO:-0700
TZNAME:PDT
DTSTART:20170312T100000
END:DAYLIGHT
BEGIN:STANDARD
TZOFFSETFROM:-0700
TZOFFSETTO:-0800
TZNAME:PST
DTSTART:20171105T090000
END:STANDARD
END:VTIMEZONE
BEGIN:VEVENT
DTSTART;TZID=America/Los_Angeles:20170810T190000
DTEND;TZID=America/Los_Angeles:20170810T190000
DTSTAMP:20260423T234415
CREATED:20170809T230038Z
LAST-MODIFIED:20170809T230038Z
UID:13534-1502391600-1502391600@sfbaytimes.com
SUMMARY:The Mathematics of Love
DESCRIPTION:@ Brava Theater Center\, 2781 24th Street. The newest play from award winning Chicana playwright Cherrie Moraga spanning five centuries of indigenous history. 7pm; also August 27\, 3pm. brava.org \n
URL:https://sfbaytimes.com/event/the-mathematics-of-love/
END:VEVENT
END:VCALENDAR