BEGIN:VCALENDAR
VERSION:2.0
PRODID:-//San Francisco Bay Times - ECPv5.1.0//NONSGML v1.0//EN
CALSCALE:GREGORIAN
METHOD:PUBLISH
X-WR-CALNAME:San Francisco Bay Times
X-ORIGINAL-URL:https://sfbaytimes.com
X-WR-CALDESC:Events for San Francisco Bay Times
BEGIN:VTIMEZONE
TZID:America/Los_Angeles
BEGIN:DAYLIGHT
TZOFFSETFROM:-0800
TZOFFSETTO:-0700
TZNAME:PDT
DTSTART:20180311T100000
END:DAYLIGHT
BEGIN:STANDARD
TZOFFSETFROM:-0700
TZOFFSETTO:-0800
TZNAME:PST
DTSTART:20181104T090000
END:STANDARD
END:VTIMEZONE
BEGIN:VEVENT
DTSTART;TZID=America/Los_Angeles:20180122T190000
DTEND;TZID=America/Los_Angeles:20180122T190000
DTSTAMP:20260425T135914
CREATED:20180116T032259Z
LAST-MODIFIED:20180116T032259Z
UID:16233-1516647600-1516647600@sfbaytimes.com
SUMMARY:The Shape of Water
DESCRIPTION:@ Castro Theatre\, 429 Castro Street. An imaginative fairy tale set against the backdrop of Cold War America circa 1962\, the film received 7 Golden Globe nominations. Starring Sally Hawkins\, Richard Jenkins\, Octavia Spencer and more. 7 and 9:30pm. castrotheatre.com \n
URL:https://sfbaytimes.com/event/the-shape-of-water/
END:VEVENT
END:VCALENDAR