BEGIN:VCALENDAR
VERSION:2.0
PRODID:-//San Francisco Bay Times - ECPv5.1.0//NONSGML v1.0//EN
CALSCALE:GREGORIAN
METHOD:PUBLISH
X-WR-CALNAME:San Francisco Bay Times
X-ORIGINAL-URL:https://sfbaytimes.com
X-WR-CALDESC:Events for San Francisco Bay Times
BEGIN:VTIMEZONE
TZID:America/Los_Angeles
BEGIN:DAYLIGHT
TZOFFSETFROM:-0800
TZOFFSETTO:-0700
TZNAME:PDT
DTSTART:20190310T100000
END:DAYLIGHT
BEGIN:STANDARD
TZOFFSETFROM:-0700
TZOFFSETTO:-0800
TZNAME:PST
DTSTART:20191103T090000
END:STANDARD
END:VTIMEZONE
BEGIN:VEVENT
DTSTART;TZID=America/Los_Angeles:20190517T190000
DTEND;TZID=America/Los_Angeles:20190517T190000
DTSTAMP:20260420T175649
CREATED:20190515T214514Z
LAST-MODIFIED:20190515T214514Z
UID:23163-1558119600-1558119600@sfbaytimes.com
SUMMARY:Theatre Rhino’s Sister Act
DESCRIPTION:@ The Gateway Theatre\, 215 Jackson Street. The Rhino’s twist on this classic has a drag queen singer going into hiding as a nun\, but she’s not the only nun in drag. Continues through June 1. http://www.the rhino.org \n
URL:https://sfbaytimes.com/event/theatre-rhinos-sister-act/2019-05-17/
END:VEVENT
END:VCALENDAR