BEGIN:VCALENDAR
VERSION:2.0
PRODID:-//San Francisco Bay Times - ECPv5.1.0//NONSGML v1.0//EN
CALSCALE:GREGORIAN
METHOD:PUBLISH
X-WR-CALNAME:San Francisco Bay Times
X-ORIGINAL-URL:https://sfbaytimes.com
X-WR-CALDESC:Events for San Francisco Bay Times
BEGIN:VTIMEZONE
TZID:America/Los_Angeles
BEGIN:DAYLIGHT
TZOFFSETFROM:-0800
TZOFFSETTO:-0700
TZNAME:PDT
DTSTART:20170312T100000
END:DAYLIGHT
BEGIN:STANDARD
TZOFFSETFROM:-0700
TZOFFSETTO:-0800
TZNAME:PST
DTSTART:20171105T090000
END:STANDARD
END:VTIMEZONE
BEGIN:VEVENT
DTSTART;TZID=America/Los_Angeles:20170717T200000
DTEND;TZID=America/Los_Angeles:20170718T200000
DTSTAMP:20260421T142004
CREATED:20170714T034005Z
LAST-MODIFIED:20170714T034005Z
UID:13068-1500321600-1500408000@sfbaytimes.com
SUMMARY:Tony Bennett
DESCRIPTION:@ Davies Symphony Hall\, 201 Van Ness Avenue. 8pm and repeats on July 18. 8pm. ticketmaster.com \n
URL:https://sfbaytimes.com/event/tony-bennett/
END:VEVENT
END:VCALENDAR