BEGIN:VCALENDAR
VERSION:2.0
PRODID:-//San Francisco Bay Times - ECPv5.1.0//NONSGML v1.0//EN
CALSCALE:GREGORIAN
METHOD:PUBLISH
X-WR-CALNAME:San Francisco Bay Times
X-ORIGINAL-URL:https://sfbaytimes.com
X-WR-CALDESC:Events for San Francisco Bay Times
BEGIN:VTIMEZONE
TZID:America/Los_Angeles
BEGIN:DAYLIGHT
TZOFFSETFROM:-0800
TZOFFSETTO:-0700
TZNAME:PDT
DTSTART:20170312T100000
END:DAYLIGHT
BEGIN:STANDARD
TZOFFSETFROM:-0700
TZOFFSETTO:-0800
TZNAME:PST
DTSTART:20171105T090000
END:STANDARD
END:VTIMEZONE
BEGIN:VEVENT
DTSTART;TZID=America/Los_Angeles:20170820T100000
DTEND;TZID=America/Los_Angeles:20170820T140000
DTSTAMP:20260421T161849
CREATED:20170810T170941Z
LAST-MODIFIED:20170810T170941Z
UID:13665-1503223200-1503237600@sfbaytimes.com
SUMMARY:Trails of the City “Back to Barbary Lane” Walking Tour & Lunch
DESCRIPTION:@ 28 Macondray Lane. A three-hour walking tour led by Lorenzo Taylor of MAX\, featuring breathtaking views\, architectural gems and locations in Tales of the City\, followed by lunch. 10-2pm. maxsf.org \n
URL:https://sfbaytimes.com/event/trails-city-back-barbary-lane-walking-tour-lunch/
END:VEVENT
END:VCALENDAR