BEGIN:VCALENDAR
VERSION:2.0
PRODID:-//San Francisco Bay Times - ECPv5.1.0//NONSGML v1.0//EN
CALSCALE:GREGORIAN
METHOD:PUBLISH
X-WR-CALNAME:San Francisco Bay Times
X-ORIGINAL-URL:https://sfbaytimes.com
X-WR-CALDESC:Events for San Francisco Bay Times
BEGIN:VTIMEZONE
TZID:America/Los_Angeles
BEGIN:DAYLIGHT
TZOFFSETFROM:-0800
TZOFFSETTO:-0700
TZNAME:PDT
DTSTART:20180311T100000
END:DAYLIGHT
BEGIN:STANDARD
TZOFFSETFROM:-0700
TZOFFSETTO:-0800
TZNAME:PST
DTSTART:20181104T090000
END:STANDARD
END:VTIMEZONE
BEGIN:VEVENT
DTSTART;TZID=America/Los_Angeles:20180316T190000
DTEND;TZID=America/Los_Angeles:20180316T210000
DTSTAMP:20260424T022912
CREATED:20180309T231253Z
LAST-MODIFIED:20180309T231253Z
UID:17113-1521226800-1521234000@sfbaytimes.com
SUMMARY:Two Anniversaries\, One Celebration!
DESCRIPTION:@ GLBT History Museum\, 4127 18th Street. A double anniversary party celebrating the founding of the GLBT Historical Society thirty-three years ago and the opening of the GLBT History Museum seven years ago\, featuring emcee Landa Lakes and DJ Marke B. Drinks. 7–9pm. glbthistory.org \n
URL:https://sfbaytimes.com/event/two-anniversaries-one-celebration/
END:VEVENT
END:VCALENDAR