BEGIN:VCALENDAR
VERSION:2.0
PRODID:-//San Francisco Bay Times - ECPv5.1.0//NONSGML v1.0//EN
CALSCALE:GREGORIAN
METHOD:PUBLISH
X-WR-CALNAME:San Francisco Bay Times
X-ORIGINAL-URL:https://sfbaytimes.com
X-WR-CALDESC:Events for San Francisco Bay Times
BEGIN:VTIMEZONE
TZID:America/Los_Angeles
BEGIN:DAYLIGHT
TZOFFSETFROM:-0800
TZOFFSETTO:-0700
TZNAME:PDT
DTSTART:20190310T100000
END:DAYLIGHT
BEGIN:STANDARD
TZOFFSETFROM:-0700
TZOFFSETTO:-0800
TZNAME:PST
DTSTART:20191103T090000
END:STANDARD
END:VTIMEZONE
BEGIN:VEVENT
DTSTART;TZID=America/Los_Angeles:20190501T190000
DTEND;TZID=America/Los_Angeles:20190501T210000
DTSTAMP:20260420T143330
CREATED:20190422T211921Z
LAST-MODIFIED:20190422T211921Z
UID:22944-1556737200-1556744400@sfbaytimes.com
SUMMARY:Two-Spirit Voices: Still Here\, Still Queer
DESCRIPTION:@ The GLBT History Museum\, 4127 18th Street. Included in the Living History Discussion Series\, the event features a look at the history of activists of the BAAITS (Bay Area American Indian Two Spirits) organization. 7-9pm. http://www.glbtshistory.org \n
URL:https://sfbaytimes.com/event/two-spirit-voices-still-still-queer/
END:VEVENT
END:VCALENDAR