BEGIN:VCALENDAR
VERSION:2.0
PRODID:-//San Francisco Bay Times - ECPv5.1.0//NONSGML v1.0//EN
CALSCALE:GREGORIAN
METHOD:PUBLISH
X-WR-CALNAME:San Francisco Bay Times
X-ORIGINAL-URL:https://sfbaytimes.com
X-WR-CALDESC:Events for San Francisco Bay Times
BEGIN:VTIMEZONE
TZID:America/Los_Angeles
BEGIN:DAYLIGHT
TZOFFSETFROM:-0800
TZOFFSETTO:-0700
TZNAME:PDT
DTSTART:20180311T100000
END:DAYLIGHT
BEGIN:STANDARD
TZOFFSETFROM:-0700
TZOFFSETTO:-0800
TZNAME:PST
DTSTART:20181104T090000
END:STANDARD
END:VTIMEZONE
BEGIN:VEVENT
DTSTART;TZID=America/Los_Angeles:20180313T160000
DTEND;TZID=America/Los_Angeles:20180313T200000
DTSTAMP:20260424T053317
CREATED:20180309T225626Z
LAST-MODIFIED:20180309T225626Z
UID:17081-1520956800-1520971200@sfbaytimes.com
SUMMARY:The Velvet Rage Book Club
DESCRIPTION:@ Strut\, 470 Castro Street. Part of the San Francisco AIDS Foundation’s Stonewall Project\, this book club explores the complexity of gay identity and culture\, HIV\, substance use\, healing relationship trauma\, shame\, internalized homophobia and much more. Facilitators are Wade Smith and Christopher Zepeda\, and the featured author is Alan Downs. 4–5:30pm. strutsf.org \n
URL:https://sfbaytimes.com/event/velvet-rage-book-club-14/
END:VEVENT
END:VCALENDAR