BEGIN:VCALENDAR
VERSION:2.0
PRODID:-//San Francisco Bay Times - ECPv5.1.0//NONSGML v1.0//EN
CALSCALE:GREGORIAN
METHOD:PUBLISH
X-WR-CALNAME:San Francisco Bay Times
X-ORIGINAL-URL:https://sfbaytimes.com
X-WR-CALDESC:Events for San Francisco Bay Times
BEGIN:VTIMEZONE
TZID:America/Los_Angeles
BEGIN:DAYLIGHT
TZOFFSETFROM:-0800
TZOFFSETTO:-0700
TZNAME:PDT
DTSTART:20170312T100000
END:DAYLIGHT
BEGIN:STANDARD
TZOFFSETFROM:-0700
TZOFFSETTO:-0800
TZNAME:PST
DTSTART:20171105T090000
END:STANDARD
END:VTIMEZONE
BEGIN:VEVENT
DTSTART;TZID=America/Los_Angeles:20171114T160000
DTEND;TZID=America/Los_Angeles:20171114T173000
DTSTAMP:20260423T210300
CREATED:20171101T185406Z
LAST-MODIFIED:20171101T185406Z
UID:14966-1510675200-1510680600@sfbaytimes.com
SUMMARY:Velvet Rage Book Club
DESCRIPTION:@ Strut\, 470 Castro Street. The weekly Tuesday book club of the SF AIDS Foundation’s Stonewall Project\, with facilitators Wade Smith and Christopher Zepeda\, explores the complexity of gay identify and culture\, HIV\, substance use\, healing relationship and more. 4-5:30pm. strutsf.org  \n
URL:https://sfbaytimes.com/event/velvet-rage-book-club-9/
END:VEVENT
END:VCALENDAR