BEGIN:VCALENDAR
VERSION:2.0
PRODID:-//San Francisco Bay Times - ECPv5.1.0//NONSGML v1.0//EN
CALSCALE:GREGORIAN
METHOD:PUBLISH
X-WR-CALNAME:San Francisco Bay Times
X-ORIGINAL-URL:https://sfbaytimes.com
X-WR-CALDESC:Events for San Francisco Bay Times
BEGIN:VTIMEZONE
TZID:America/Los_Angeles
BEGIN:DAYLIGHT
TZOFFSETFROM:-0800
TZOFFSETTO:-0700
TZNAME:PDT
DTSTART:20170312T100000
END:DAYLIGHT
BEGIN:STANDARD
TZOFFSETFROM:-0700
TZOFFSETTO:-0800
TZNAME:PST
DTSTART:20171105T090000
END:STANDARD
END:VTIMEZONE
BEGIN:VEVENT
DTSTART;VALUE=DATE:20170622
DTEND;VALUE=DATE:20170623
DTSTAMP:20260422T073958
CREATED:20170620T202745Z
LAST-MODIFIED:20170620T202745Z
UID:12669-1498089600-1498175999@sfbaytimes.com
SUMMARY:What We Carry With Us: A Refugee Storytelling Lab
DESCRIPTION:@ JCC East Bay\, Berkeley Branch\, 1414 Walnut Street\, Berkeley. A multi-media presentation featuring short film\, digital images and a discussion with young adult refugees from Afghanistan\, Pakistan\, Syria and Uganda. jcceastbay.org \n
URL:https://sfbaytimes.com/event/what-we-carry-with-us-a-refugee-storytelling-lab/
END:VEVENT
END:VCALENDAR