BEGIN:VCALENDAR
VERSION:2.0
PRODID:-//San Francisco Bay Times - ECPv5.1.0//NONSGML v1.0//EN
CALSCALE:GREGORIAN
METHOD:PUBLISH
X-WR-CALNAME:San Francisco Bay Times
X-ORIGINAL-URL:https://sfbaytimes.com
X-WR-CALDESC:Events for San Francisco Bay Times
BEGIN:VTIMEZONE
TZID:America/Los_Angeles
BEGIN:DAYLIGHT
TZOFFSETFROM:-0800
TZOFFSETTO:-0700
TZNAME:PDT
DTSTART:20170312T100000
END:DAYLIGHT
BEGIN:STANDARD
TZOFFSETFROM:-0700
TZOFFSETTO:-0800
TZNAME:PST
DTSTART:20171105T090000
END:STANDARD
END:VTIMEZONE
BEGIN:VEVENT
DTSTART;TZID=America/Los_Angeles:20171112T160000
DTEND;TZID=America/Los_Angeles:20171112T190000
DTSTAMP:20260424T042301
CREATED:20171101T184848Z
LAST-MODIFIED:20171101T184848Z
UID:14952-1510502400-1510513200@sfbaytimes.com
SUMMARY:Wine Country Rising - North Bay Fire Victims Benefit
DESCRIPTION:@ 2004 Gough Street. An evening of great wine\, food and entertainment\, hosted by Rainbow World Fund and Out in the Vineyard\, benefiting North Bay Fire Victims. 4-7pm.  rainboworldfund.org \n
URL:https://sfbaytimes.com/event/wine-country-rising-north-bay-fire-victims-benefit/
END:VEVENT
END:VCALENDAR