BEGIN:VCALENDAR
VERSION:2.0
PRODID:-//San Francisco Bay Times - ECPv5.1.0//NONSGML v1.0//EN
CALSCALE:GREGORIAN
METHOD:PUBLISH
X-WR-CALNAME:San Francisco Bay Times
X-ORIGINAL-URL:https://sfbaytimes.com
X-WR-CALDESC:Events for San Francisco Bay Times
BEGIN:VTIMEZONE
TZID:America/Los_Angeles
BEGIN:DAYLIGHT
TZOFFSETFROM:-0800
TZOFFSETTO:-0700
TZNAME:PDT
DTSTART:20180311T100000
END:DAYLIGHT
BEGIN:STANDARD
TZOFFSETFROM:-0700
TZOFFSETTO:-0800
TZNAME:PST
DTSTART:20181104T090000
END:STANDARD
END:VTIMEZONE
BEGIN:VEVENT
DTSTART;VALUE=DATE:20180319
DTEND;VALUE=DATE:20180320
DTSTAMP:20260424T012540
CREATED:20180309T233344Z
LAST-MODIFIED:20180309T233411Z
UID:17131-1521417600-1521503999@sfbaytimes.com
SUMMARY:Women’s Jazz & Blues Camp
DESCRIPTION:@ Jazzschool\, Berkeley. Open to women instrumentalists and vocalists at all levels\, the camp continues all week with a concert on Friday\, March 23. cjc.edu/womensreg or womenscamp@cjc.edu \n
URL:https://sfbaytimes.com/event/womens-jazz-blues-camp/
END:VEVENT
END:VCALENDAR