BEGIN:VCALENDAR
VERSION:2.0
PRODID:-//San Francisco Bay Times - ECPv5.1.0//NONSGML v1.0//EN
CALSCALE:GREGORIAN
METHOD:PUBLISH
X-WR-CALNAME:San Francisco Bay Times
X-ORIGINAL-URL:https://sfbaytimes.com
X-WR-CALDESC:Events for San Francisco Bay Times
BEGIN:VTIMEZONE
TZID:America/Los_Angeles
BEGIN:DAYLIGHT
TZOFFSETFROM:-0800
TZOFFSETTO:-0700
TZNAME:PDT
DTSTART:20170312T100000
END:DAYLIGHT
BEGIN:STANDARD
TZOFFSETFROM:-0700
TZOFFSETTO:-0800
TZNAME:PST
DTSTART:20171105T090000
END:STANDARD
END:VTIMEZONE
BEGIN:VEVENT
DTSTART;TZID=America/Los_Angeles:20170923T200000
DTEND;TZID=America/Los_Angeles:20170923T230000
DTSTAMP:20260422T093420
CREATED:20170921T232224Z
LAST-MODIFIED:20170921T232224Z
UID:14296-1506196800-1506207600@sfbaytimes.com
SUMMARY:Women’s Shelter Benefit
DESCRIPTION:@ The Santa Clara Hyatt\, 5101 Great America Parkway\, Santa Clara. Drummer Robin Roth with The Girlz will perform. 8-11pm. robinroth.com \n
URL:https://sfbaytimes.com/event/womens-shelter-benefit/
END:VEVENT
END:VCALENDAR