BEGIN:VCALENDAR
VERSION:2.0
PRODID:-//San Francisco Bay Times - ECPv5.1.0//NONSGML v1.0//EN
CALSCALE:GREGORIAN
METHOD:PUBLISH
X-WR-CALNAME:San Francisco Bay Times
X-ORIGINAL-URL:https://sfbaytimes.com
X-WR-CALDESC:Events for San Francisco Bay Times
BEGIN:VTIMEZONE
TZID:America/Los_Angeles
BEGIN:DAYLIGHT
TZOFFSETFROM:-0800
TZOFFSETTO:-0700
TZNAME:PDT
DTSTART:20180311T100000
END:DAYLIGHT
BEGIN:STANDARD
TZOFFSETFROM:-0700
TZOFFSETTO:-0800
TZNAME:PST
DTSTART:20181104T090000
END:STANDARD
END:VTIMEZONE
BEGIN:VEVENT
DTSTART;TZID=America/Los_Angeles:20180324T190000
DTEND;TZID=America/Los_Angeles:20180324T190000
DTSTAMP:20260423T221622
CREATED:20180321T174141Z
LAST-MODIFIED:20180321T174141Z
UID:17184-1521918000-1521918000@sfbaytimes.com
SUMMARY:X-Factor’s Jason Brock Goes Gospel: “Recovering Christian”
DESCRIPTION:@ Martuni’s Piano Bar\, 4 Valencia Street. With Dr. Dee Spencer on the piano\, Brock will sing and talk about how Christianity and Christian music affected his life. 7pm. Also on March 25 and 31. 7pm. jasonbrockvocals.com \n
URL:https://sfbaytimes.com/event/x-factors-jason-brock-goes-gospel-recovering-christian/
END:VEVENT
END:VCALENDAR