BEGIN:VCALENDAR
VERSION:2.0
PRODID:-//San Francisco Bay Times - ECPv5.1.0//NONSGML v1.0//EN
CALSCALE:GREGORIAN
METHOD:PUBLISH
X-WR-CALNAME:San Francisco Bay Times
X-ORIGINAL-URL:https://sfbaytimes.com
X-WR-CALDESC:Events for San Francisco Bay Times
BEGIN:VTIMEZONE
TZID:America/Los_Angeles
BEGIN:DAYLIGHT
TZOFFSETFROM:-0800
TZOFFSETTO:-0700
TZNAME:PDT
DTSTART:20180311T100000
END:DAYLIGHT
BEGIN:STANDARD
TZOFFSETFROM:-0700
TZOFFSETTO:-0800
TZNAME:PST
DTSTART:20181104T090000
END:STANDARD
END:VTIMEZONE
BEGIN:VEVENT
DTSTART;VALUE=DATE:20180930
DTEND;VALUE=DATE:20181001
DTSTAMP:20260419T220935
CREATED:20180923T205313Z
LAST-MODIFIED:20180923T205320Z
UID:19663-1538265600-1538351999@sfbaytimes.com
SUMMARY:Yo-Yo Ma - The Complete Bach Suites
DESCRIPTION:@ Cal Perforances – Greek Theatre\, 2001 Gayley Road\, Berkeley. The acclaimed cellist returns to the Greek for a special performance of Bach’s cello suites. http://www.calperformances.org \n
URL:https://sfbaytimes.com/event/yo-yo-ma-complete-bach-suites/
END:VEVENT
END:VCALENDAR