BEGIN:VCALENDAR
VERSION:2.0
PRODID:-//San Francisco Bay Times - ECPv5.1.0//NONSGML v1.0//EN
CALSCALE:GREGORIAN
METHOD:PUBLISH
X-WR-CALNAME:San Francisco Bay Times
X-ORIGINAL-URL:https://sfbaytimes.com
X-WR-CALDESC:Events for San Francisco Bay Times
BEGIN:VTIMEZONE

END:VTIMEZONE
BEGIN:VEVENT
DTSTART;TZID=America/Los_Angeles:19700101T000000
DTEND;TZID=America/Los_Angeles:20171009T210000
DTSTAMP:20260421T124359
CREATED:20171009T195235Z
LAST-MODIFIED:20171009T195235Z
UID:14555-0-1507582800@sfbaytimes.com
SUMMARY:LitQuake
DESCRIPTION:@ Strut\, 2nd Floor\, 470 Castro. A segment of the city-wide LitQuake Festival will be held at Strut with a team of contributors from the Foglifter Queer Literacy Journal presenting a celebration featuring performances of works from a new anthology. 7:30pm-9pm. strutsf.org \n
URL:https://sfbaytimes.com/event/litquake/
END:VEVENT
BEGIN:VEVENT
DTSTART;TZID=America/Los_Angeles:19700101T000000
DTEND;TZID=America/Los_Angeles:20181019T170000
DTSTAMP:20260421T124359
CREATED:20181018T225924Z
LAST-MODIFIED:20181018T225924Z
UID:20027-0-1539968400@sfbaytimes.com
SUMMARY:District 8 Office Art Opening Reception
DESCRIPTION:@ San Fransisco City Hall\, 1 Dr. Carlton Goodlett Place\, Rm 284. Supervisor Rafael Mandelman welcomes artist Jun Yang whose art is currently on display. 4-5pm. mandelmanstaff@sfgov.org \n
URL:https://sfbaytimes.com/event/district-8-office-art-opening-reception/
END:VEVENT
BEGIN:VEVENT
DTSTART;TZID=America/Los_Angeles:20170624T093000
DTEND;TZID=America/Los_Angeles:20170924T171500
DTSTAMP:20260421T124359
CREATED:20170620T203947Z
LAST-MODIFIED:20170620T203947Z
UID:12693-1498296600-1506273300@sfbaytimes.com
SUMMARY:Degas\, Impressionism\, and the Paris Millinery Trade
DESCRIPTION:@ Legion of Honor\, Lincoln Park\, 100 34th Avenue. Featuring more than forty Impressionist paintings and pastels\, including key works by Degas\, as well as Renoir\, Manet\, Cassatt and Loulouse-Lautrec\, in addition to a display of forty examples of period hats. Continues through September 24. 9:30am-5:15pm. legionofhonor.famsf.org \n
URL:https://sfbaytimes.com/event/degas-impressionism-and-the-paris-millinery-trade/
END:VEVENT
BEGIN:VEVENT
DTSTART;TZID=America/Los_Angeles:20170711T200000
DTEND;TZID=America/Los_Angeles:20170919T170000
DTSTAMP:20260421T124359
CREATED:20170620T215141Z
LAST-MODIFIED:20170620T215141Z
UID:12784-1499803200-1505840400@sfbaytimes.com
SUMMARY:Durst Case Scenario
DESCRIPTION:@ The Marsh\, 1062 Valencia Street. A new solo show by Will Durst\, presenting his satiric political humor exploring how America is changing in the Trump era. 8pm on Thursdays through September 19. themarsh.org \n
URL:https://sfbaytimes.com/event/durst-case-scenario/
END:VEVENT
BEGIN:VEVENT
DTSTART;VALUE=DATE:20170717
DTEND;VALUE=DATE:20171002
DTSTAMP:20260421T124359
CREATED:20170714T033819Z
LAST-MODIFIED:20170714T033914Z
UID:13066-1500249600-1506902399@sfbaytimes.com
SUMMARY:Flower Power Exhibit
DESCRIPTION:@ Asian Art Museum\, 200 Larkin Street. Continuing through October 1. With the role of flowers as emblems of peace during the Summer of Love\, the exhibit looks at flowers in Asian art through the symbolism of the lotus\, plum blossom\,\ncherry blossom\, chrysanthemum\, tulip and rose. asianart.org \n
URL:https://sfbaytimes.com/event/flower-power-exhibit/
END:VEVENT
BEGIN:VEVENT
DTSTART;VALUE=DATE:20170821
DTEND;VALUE=DATE:20171208
DTSTAMP:20260421T124359
CREATED:20170810T171225Z
LAST-MODIFIED:20170810T171225Z
UID:13671-1503273600-1512691199@sfbaytimes.com
SUMMARY:The Seen: What You Would Have Seen on Haight Street in 1967
DESCRIPTION:@ SF Public Library Park Branch\, 1833 Page Street. An exhibit of then and now photos providing a walk down memory lane of the Haight-Ashbury scene from 1967. Through December 7. sfpl.org \n
URL:https://sfbaytimes.com/event/seen-seen-haight-street-1967/
END:VEVENT
BEGIN:VEVENT
DTSTART;TZID=America/Los_Angeles:20170910T100000
DTEND;TZID=America/Los_Angeles:20170910T150000
DTSTAMP:20260421T124359
CREATED:20170908T211421Z
LAST-MODIFIED:20170908T211421Z
UID:14117-1505037600-1505055600@sfbaytimes.com
SUMMARY:MAX’s Sunday in the Museum with Edgar (Degas)
DESCRIPTION:@ Legion of Honor Museum\, 100 34th Avenue.  A crowd of gay men and their friends will enjoy a fun-filled day at the Museum. 10am-3pm. maxsf.org \n
URL:https://sfbaytimes.com/event/maxs-sunday-museum-edgar-degas/
END:VEVENT
BEGIN:VEVENT
DTSTART;TZID=America/Los_Angeles:20170910T133000
DTEND;TZID=America/Los_Angeles:20170910T133000
DTSTAMP:20260421T124359
CREATED:20170908T211509Z
LAST-MODIFIED:20170908T211509Z
UID:14120-1505050200-1505050200@sfbaytimes.com
SUMMARY:Opera in the Park Concert
DESCRIPTION:@ Sharon Meadow\, Golden Gate Park – The 44th year of this annual preview of the Opera’s upcoming Fall Season\, concluding with the audience joining singers for a rousing rendition of the brindisi drinking song from Verdi’s La Traviata. 1:30pm. sfopera.org \n
URL:https://sfbaytimes.com/event/opera-park-concert/
END:VEVENT
BEGIN:VEVENT
DTSTART;TZID=America/Los_Angeles:20170910T160000
DTEND;TZID=America/Los_Angeles:20170910T190000
DTSTAMP:20260421T124359
CREATED:20170908T211555Z
LAST-MODIFIED:20170908T211555Z
UID:14122-1505059200-1505070000@sfbaytimes.com
SUMMARY:Finale & Crowning of Mr and Miss Golden Gate
DESCRIPTION:@ TechShop San Francisco Gallery\, 910 Howard Street. SF Imperial Court’s Emperor Nic Hunter and Empress Mercedez Munro host the annual event benefitting the Monarch’s Admin Fund and the Monarch’s Charity Fund. 4-7pm. imperialcouncilsf.org \n
URL:https://sfbaytimes.com/event/finale-crowning-mr-miss-golden-gate/
END:VEVENT
BEGIN:VEVENT
DTSTART;TZID=America/Los_Angeles:20170910T190000
DTEND;TZID=America/Los_Angeles:20170910T220000
DTSTAMP:20260421T124359
CREATED:20170908T211646Z
LAST-MODIFIED:20170908T211646Z
UID:14124-1505070000-1505080800@sfbaytimes.com
SUMMARY:Azucar con Ache Farewell Concert
DESCRIPTION:@ Freight & Salvage Coffeehouse\, 2020 Addison Street\, Berkeley. The final show by the Bay Area’s popular women’s jazz/salsa band featuring vocals by Maria Cora. 7-10pm. freightandsalvage.org \n
URL:https://sfbaytimes.com/event/azucar-con-ache-farewell-concert/
END:VEVENT
BEGIN:VEVENT
DTSTART;TZID=America/Los_Angeles:20170910T190000
DTEND;TZID=America/Los_Angeles:20170910T190000
DTSTAMP:20260421T124359
CREATED:20170908T211748Z
LAST-MODIFIED:20170908T211748Z
UID:14126-1505070000-1505070000@sfbaytimes.com
SUMMARY:Pussy Power: Judy Chicago in Conversation with Sarah Thornton
DESCRIPTION:@ Jewish Community Center San Francisco\, 3200 California Street. A conversation with artist Judy Chicago on her life and career coinciding with the opening of Judy Chicago’s exhibit at the Jessica Silverman Gallery\, her first solo show in the Bay Area since The Dinner Party debuted at SFMOMA in 1979. 7pm. jccsf.org \n
URL:https://sfbaytimes.com/event/pussy-power-judy-chicago-conversation-sarah-thornton/
END:VEVENT
END:VCALENDAR