BEGIN:VCALENDAR
VERSION:2.0
PRODID:-//San Francisco Bay Times - ECPv5.1.0//NONSGML v1.0//EN
CALSCALE:GREGORIAN
METHOD:PUBLISH
X-WR-CALNAME:San Francisco Bay Times
X-ORIGINAL-URL:https://sfbaytimes.com
X-WR-CALDESC:Events for San Francisco Bay Times
BEGIN:VTIMEZONE
TZID:America/Los_Angeles
BEGIN:DAYLIGHT
TZOFFSETFROM:-0800
TZOFFSETTO:-0700
TZNAME:PDT
DTSTART:20180311T100000
END:DAYLIGHT
BEGIN:STANDARD
TZOFFSETFROM:-0700
TZOFFSETTO:-0800
TZNAME:PST
DTSTART:20181104T090000
END:STANDARD
END:VTIMEZONE
BEGIN:VEVENT
DTSTART;TZID=America/Los_Angeles:20181231T200000
DTEND;TZID=America/Los_Angeles:20181231T200000
DTSTAMP:20260420T095016
CREATED:20181220T232117Z
LAST-MODIFIED:20181220T232117Z
UID:21240-1546286400-1546286400@sfbaytimes.com
SUMMARY:Mango NYE 2019
DESCRIPTION:@ Mango\, 3158 Mission Street. The Bay Area’s original Tea Dance for women and their allies will be packed as usual on New Year’s Eve. 8pm-2am. http://www.elriosf.com \n
URL:https://sfbaytimes.com/event/mango-nye-2019/
END:VEVENT
BEGIN:VEVENT
DTSTART;TZID=America/Los_Angeles:20181231T200000
DTEND;TZID=America/Los_Angeles:20181231T200000
DTSTAMP:20260420T095016
CREATED:20181220T232147Z
LAST-MODIFIED:20181220T232147Z
UID:21242-1546286400-1546286400@sfbaytimes.com
SUMMARY:Stephanie Teel with the Sound Waves
DESCRIPTION:@ Nick’s\, 100 Rockaway Beach Avenue\, Pacifica. Rocker Stephanie Teel will present a New Year’s Eve show open to all. 8pm-Midnight. http://www.stephanieteel.com \n
URL:https://sfbaytimes.com/event/stephanie-teel-sound-waves/
END:VEVENT
BEGIN:VEVENT
DTSTART;TZID=America/Los_Angeles:20181231T210000
DTEND;TZID=America/Los_Angeles:20181231T210000
DTSTAMP:20260420T095016
CREATED:20181220T232215Z
LAST-MODIFIED:20181220T232215Z
UID:21244-1546290000-1546290000@sfbaytimes.com
SUMMARY:New Year’s Eve Party!
DESCRIPTION:@ SF Oasis\, 298 11th Street. This fourth anniversary party features DJ Sergio Fedasz and special guest Jinkx Monsoon with visuals by Vis-A-Vis and complimentary champagne at midnight. 9pm-3am. http://www.sfoasis.com \n
URL:https://sfbaytimes.com/event/new-years-eve-party/
END:VEVENT
BEGIN:VEVENT
DTSTART;TZID=America/Los_Angeles:20181231T210000
DTEND;TZID=America/Los_Angeles:20181231T210000
DTSTAMP:20260420T095016
CREATED:20181220T232241Z
LAST-MODIFIED:20181220T232241Z
UID:21246-1546290000-1546290000@sfbaytimes.com
SUMMARY:A Fleetwood Macramé NYE Extravaganza!
DESCRIPTION:@ Ivy Room\, 860 San Pablo Avenue\, Albany. The popular tribute band brings its inspring show complete with renditions of Fleetwood Mac’s greatest hits. 9pm. http://www.ivyroom.com \n
URL:https://sfbaytimes.com/event/fleetwood-macrame-nye-extravaganza/
END:VEVENT
BEGIN:VEVENT
DTSTART;TZID=America/Los_Angeles:20181231T210000
DTEND;TZID=America/Los_Angeles:20181231T210000
DTSTAMP:20260420T095016
CREATED:20181220T232316Z
LAST-MODIFIED:20181220T232316Z
UID:21248-1546290000-1546290000@sfbaytimes.com
SUMMARY:New Year’s Eve Greatest Hits
DESCRIPTION:@ Virgil’s Sea Room\, 3152 Mission Street. Throwback Thursdays will present the greatest hits from recent decades with dancing\, a photo booth and patio cruising with queer vibes welcoming in 2019. 9pm-2am. http://www.virgilssf.com \n
URL:https://sfbaytimes.com/event/new-years-eve-greatest-hits/
END:VEVENT
BEGIN:VEVENT
DTSTART;TZID=America/Los_Angeles:20181231T210000
DTEND;TZID=America/Los_Angeles:20181231T210000
DTSTAMP:20260420T095016
CREATED:20181220T232507Z
LAST-MODIFIED:20181220T232507Z
UID:21250-1546290000-1546290000@sfbaytimes.com
SUMMARY:UHAUL SF 5th Annual All Black Everything New Year’s Eve Party
DESCRIPTION:@ Jolene’s Bar\, 2700 16th Street. The new bar for women hosts a New Year’s Eve Party presented by UHAUL SF 9pm-2am. http://www.jolenessf.com \n
URL:https://sfbaytimes.com/event/uhaul-sf-5th-annual-black-everything-new-years-eve-party/
END:VEVENT
END:VCALENDAR