BEGIN:VCALENDAR
VERSION:2.0
PRODID:-//San Francisco Bay Times - ECPv5.1.0//NONSGML v1.0//EN
CALSCALE:GREGORIAN
METHOD:PUBLISH
X-WR-CALNAME:San Francisco Bay Times
X-ORIGINAL-URL:https://sfbaytimes.com
X-WR-CALDESC:Events for San Francisco Bay Times
BEGIN:VTIMEZONE
TZID:America/Los_Angeles
BEGIN:DAYLIGHT
TZOFFSETFROM:-0800
TZOFFSETTO:-0700
TZNAME:PDT
DTSTART:20190310T100000
END:DAYLIGHT
BEGIN:STANDARD
TZOFFSETFROM:-0700
TZOFFSETTO:-0800
TZNAME:PST
DTSTART:20191103T090000
END:STANDARD
END:VTIMEZONE
BEGIN:VEVENT
DTSTART;TZID=America/Los_Angeles:20190112T190000
DTEND;TZID=America/Los_Angeles:20190112T190000
DTSTAMP:20260420T094853
CREATED:20190109T222001Z
LAST-MODIFIED:20190109T222001Z
UID:21341-1547319600-1547319600@sfbaytimes.com
SUMMARY:Nasty Woman Band Rehearsal for 3rd Annual Oakland Women’s March
DESCRIPTION:@ BFUU Fellowship Hall\, 1924 Cedar Street\, Berkeley. All musicians are welcome to join the Band\, composed of a mix of amateurs and professionals\, scheduled to perform again this year at the Oakland Women’s March on January 19. Nasty Woman Band on Facebook \n
URL:https://sfbaytimes.com/event/nasty-woman-band-rehearsal-3rd-annual-oakland-womens-march/
END:VEVENT
BEGIN:VEVENT
DTSTART;TZID=America/Los_Angeles:20190112T190000
DTEND;TZID=America/Los_Angeles:20190112T190000
DTSTAMP:20260420T094853
CREATED:20190109T222114Z
LAST-MODIFIED:20190109T222114Z
UID:21345-1547319600-1547319600@sfbaytimes.com
SUMMARY:A History of World War II: The D-Day Invasion to the Fall of Berlin
DESCRIPTION:@ The Marsh San Francisco\, 1062 Valencia Street. Written and performed by Theatre Rhino’s John Fisher\, the show includes the history plus Fisher’s take on the generals who fought the battles and the actors who played them in the movies. Continues through February 2. http://www.themarch.org \n
URL:https://sfbaytimes.com/event/history-world-war-ii-d-day-invasion-fall-berlin-4/
END:VEVENT
BEGIN:VEVENT
DTSTART;TZID=America/Los_Angeles:20190112T210000
DTEND;TZID=America/Los_Angeles:20190112T210000
DTSTAMP:20260420T094853
CREATED:20190109T222030Z
LAST-MODIFIED:20190109T222030Z
UID:21343-1547326800-1547326800@sfbaytimes.com
SUMMARY:God Save the Queens: Queer Punk Night
DESCRIPTION:@ El Rio\, 3158 Mission Street. Host/DJ Scott Toxins and guest DJ Dave Bones will spin punk and its sibling genres postpunk\, protopunk\, goth\, deathrock\, queercore\, riot grrl\, synthpunk and more. 9pm. http://www.elriosf.com \n
URL:https://sfbaytimes.com/event/god-save-queens-queer-punk-night/
END:VEVENT
END:VCALENDAR