BEGIN:VCALENDAR
VERSION:2.0
PRODID:-//San Francisco Bay Times - ECPv5.1.0//NONSGML v1.0//EN
CALSCALE:GREGORIAN
METHOD:PUBLISH
X-WR-CALNAME:San Francisco Bay Times
X-ORIGINAL-URL:https://sfbaytimes.com
X-WR-CALDESC:Events for San Francisco Bay Times
BEGIN:VTIMEZONE
TZID:America/Los_Angeles
BEGIN:DAYLIGHT
TZOFFSETFROM:-0800
TZOFFSETTO:-0700
TZNAME:PDT
DTSTART:20190310T100000
END:DAYLIGHT
BEGIN:STANDARD
TZOFFSETFROM:-0700
TZOFFSETTO:-0800
TZNAME:PST
DTSTART:20191103T090000
END:STANDARD
END:VTIMEZONE
BEGIN:VEVENT
DTSTART;TZID=America/Los_Angeles:20190113T130000
DTEND;TZID=America/Los_Angeles:20190113T180000
DTSTAMP:20260420T094849
CREATED:20190109T222157Z
LAST-MODIFIED:20190109T222157Z
UID:21347-1547384400-1547402400@sfbaytimes.com
SUMMARY:Bookstore & Chocolate Crawl
DESCRIPTION:@ Dog Eared Books Castro\, 489 Castro Street. The event is a walking tour\, beginning at Dog Eared Books Castro\, that visits some of the Bay Area’s best bookstores with frequent stops for chocolaty confections. 1-6pm. http://www.bookstorechocolate.wix.com \n
URL:https://sfbaytimes.com/event/bookstore-chocolate-crawl/
END:VEVENT
BEGIN:VEVENT
DTSTART;TZID=America/Los_Angeles:20190113T160000
DTEND;TZID=America/Los_Angeles:20190113T160000
DTSTAMP:20260420T094849
CREATED:20190109T222230Z
LAST-MODIFIED:20190109T222242Z
UID:21349-1547395200-1547395200@sfbaytimes.com
SUMMARY:Dot’s Sunday Hoedown
DESCRIPTION:@ The Ivy Room\, 860 San Pablo Avenue\, Albany. The every 2nd Sunday showcase of the Bay Area’s best live country\, Americana\, Rockabilly and roots will feature Tremolo Saints\, Kate Burkart Band\, Sean O’Brien and his Drooling Angels. 4pm. http:/www.ivyroom.com \n
URL:https://sfbaytimes.com/event/dots-sunday-hoedown/
END:VEVENT
END:VCALENDAR