BEGIN:VCALENDAR
VERSION:2.0
PRODID:-//San Francisco Bay Times - ECPv5.1.0//NONSGML v1.0//EN
CALSCALE:GREGORIAN
METHOD:PUBLISH
X-WR-CALNAME:San Francisco Bay Times
X-ORIGINAL-URL:https://sfbaytimes.com
X-WR-CALDESC:Events for San Francisco Bay Times
BEGIN:VTIMEZONE
TZID:America/Los_Angeles
BEGIN:DAYLIGHT
TZOFFSETFROM:-0800
TZOFFSETTO:-0700
TZNAME:PDT
DTSTART:20190310T100000
END:DAYLIGHT
BEGIN:STANDARD
TZOFFSETFROM:-0700
TZOFFSETTO:-0800
TZNAME:PST
DTSTART:20191103T090000
END:STANDARD
END:VTIMEZONE
BEGIN:VEVENT
DTSTART;VALUE=DATE:20190118
DTEND;VALUE=DATE:20190119
DTSTAMP:20260420T093619
CREATED:20190109T225256Z
LAST-MODIFIED:20190109T225256Z
UID:21381-1547769600-1547855999@sfbaytimes.com
SUMMARY:Ru Paul’s All Stars 4 Viewing Party
DESCRIPTION:@ Castro Country Club\, 4058 18th Street. All are welcome for this weekly viewing party where everyone roots for their favorite All Star enjoying some good\, somewhat clean and definitely sober time with door-prizes\, mini-contests and guest co-hosts. http://www.castrocountryclub.org \n
URL:https://sfbaytimes.com/event/ru-pauls-stars-4-viewing-party/
END:VEVENT
BEGIN:VEVENT
DTSTART;TZID=America/Los_Angeles:20190118T190000
DTEND;TZID=America/Los_Angeles:20190118T190000
DTSTAMP:20260420T093619
CREATED:20190109T225145Z
LAST-MODIFIED:20190109T225145Z
UID:21377-1547838000-1547838000@sfbaytimes.com
SUMMARY:Comedy Returns to El Rio
DESCRIPTION:@ El Rio\, 3158 Mission Street. The show features Bernadette Luckett\, Joe Klocek\, Chey Bell\, Arjun Banerjee and Lisa Geduldig. 7pm. http://www.elriosf.com \n
URL:https://sfbaytimes.com/event/comedy-returns-el-rio-5/
END:VEVENT
BEGIN:VEVENT
DTSTART;TZID=America/Los_Angeles:20190118T193000
DTEND;TZID=America/Los_Angeles:20190118T220000
DTSTAMP:20260420T093619
CREATED:20190109T225223Z
LAST-MODIFIED:20190109T225223Z
UID:21379-1547839800-1547848800@sfbaytimes.com
SUMMARY:The Eve of the March Celebration of the Divine Feminine in Song
DESCRIPTION:@ Grace Cathedral\, 1100 California Street. Vajra Voices and Kitka Women’s Vocal Ensemble with instrumentalist Shira Kammen and vocalist Theresa Wong will present a program honoring the 2019 Women’s March. 7:30-10pm. http://www.vajravoices.com \n
URL:https://sfbaytimes.com/event/eve-march-celebration-divine-feminine-song/
END:VEVENT
END:VCALENDAR