BEGIN:VCALENDAR
VERSION:2.0
PRODID:-//San Francisco Bay Times - ECPv5.1.0//NONSGML v1.0//EN
CALSCALE:GREGORIAN
METHOD:PUBLISH
X-WR-CALNAME:San Francisco Bay Times
X-ORIGINAL-URL:https://sfbaytimes.com
X-WR-CALDESC:Events for San Francisco Bay Times
BEGIN:VTIMEZONE
TZID:America/Los_Angeles
BEGIN:DAYLIGHT
TZOFFSETFROM:-0800
TZOFFSETTO:-0700
TZNAME:PDT
DTSTART:20190310T100000
END:DAYLIGHT
BEGIN:STANDARD
TZOFFSETFROM:-0700
TZOFFSETTO:-0800
TZNAME:PST
DTSTART:20191103T090000
END:STANDARD
END:VTIMEZONE
BEGIN:VEVENT
DTSTART;TZID=America/Los_Angeles:20190129T193000
DTEND;TZID=America/Los_Angeles:20190129T211000
DTSTAMP:20260420T093538
CREATED:20190124T232705Z
LAST-MODIFIED:20190124T232705Z
UID:21636-1548790200-1548796200@sfbaytimes.com
SUMMARY:Come from Away
DESCRIPTION:@ SHN Golden Gate Theatre\, 1 Taylor Street. The Tony Award-winning musical\, based on the true story of a small town in Newfoundland that welcomed 7\,000 stranded passengers. 7:30-9:10pm through March 3. http://www.shnsf.com \n
URL:https://sfbaytimes.com/event/come-from-away/2019-01-29/
END:VEVENT
BEGIN:VEVENT
DTSTART;TZID=America/Los_Angeles:20190129T200000
DTEND;TZID=America/Los_Angeles:20190129T200000
DTSTAMP:20260420T093538
CREATED:20190124T232756Z
LAST-MODIFIED:20190124T232756Z
UID:21671-1548792000-1548792000@sfbaytimes.com
SUMMARY:Janiva Magness
DESCRIPTION:@ Yoshi’s Oakland\, 510 Embarcadero West\, Oakand. The multi-award winning and Grammy nominated artist\, recognized for her inspired vocal performances with the character of Memphis rhythm and blues\, brings her show to this popular East Bay venue. 8pm. http://www.yoshis.com \n
URL:https://sfbaytimes.com/event/janiva-magness/
END:VEVENT
END:VCALENDAR