BEGIN:VCALENDAR
VERSION:2.0
PRODID:-//San Francisco Bay Times - ECPv5.1.0//NONSGML v1.0//EN
CALSCALE:GREGORIAN
METHOD:PUBLISH
X-WR-CALNAME:San Francisco Bay Times
X-ORIGINAL-URL:https://sfbaytimes.com
X-WR-CALDESC:Events for San Francisco Bay Times
BEGIN:VTIMEZONE
TZID:America/Los_Angeles
BEGIN:DAYLIGHT
TZOFFSETFROM:-0800
TZOFFSETTO:-0700
TZNAME:PDT
DTSTART:20190310T100000
END:DAYLIGHT
BEGIN:STANDARD
TZOFFSETFROM:-0700
TZOFFSETTO:-0800
TZNAME:PST
DTSTART:20191103T090000
END:STANDARD
END:VTIMEZONE
BEGIN:VEVENT
DTSTART;TZID=America/Los_Angeles:20190131T180000
DTEND;TZID=America/Los_Angeles:20190131T180000
DTSTAMP:20260420T093612
CREATED:20190124T233024Z
LAST-MODIFIED:20190124T233024Z
UID:21679-1548957600-1548957600@sfbaytimes.com
SUMMARY:NightLife Spotlight: Color
DESCRIPTION:@ California Academy of Sciences\, 55 Music Concourse Drive. Get your late-night science fix with rainbow-hued cocktails in hand while wandering among rainforest greens\, aquarium blues\, and coral pinks. 6pm. http://www.calacademy.org \n
URL:https://sfbaytimes.com/event/nightlife-spotlight-color/
END:VEVENT
BEGIN:VEVENT
DTSTART;TZID=America/Los_Angeles:20190131T190000
DTEND;TZID=America/Los_Angeles:20190131T210000
DTSTAMP:20260420T093612
CREATED:20190124T232951Z
LAST-MODIFIED:20190124T232951Z
UID:21677-1548961200-1548968400@sfbaytimes.com
SUMMARY:Two-Spirit Voices: Returning to the Circle Exhibit Opening
DESCRIPTION:@ GLBT History Museum\, 4127 18th Street. Join curators Roger Kuhn\, Amelia Vigil and Ruth Villaseñor for the opening reception of this new exhibit celebrating the 20th Anniversary of Bay Area American Indian Two-Spirits (BAAITS). 7-9pm. http://www.glbthistory.org \n
URL:https://sfbaytimes.com/event/two-spirit-voices-returning-circle-exhibit-opening/
END:VEVENT
BEGIN:VEVENT
DTSTART;TZID=America/Los_Angeles:20190131T190000
DTEND;TZID=America/Los_Angeles:20190131T190000
DTSTAMP:20260420T093612
CREATED:20190124T233425Z
LAST-MODIFIED:20190124T233425Z
UID:21681-1548961200-1548961200@sfbaytimes.com
SUMMARY:Martinis & Writers with Literary Speakeasy
DESCRIPTION:@ Martuni’s\, 4 Valencia Street. Hosted by James Siegal\, this regular event showcases Bay Area talent reading their original works. Martuni’s on Facebook \n
URL:https://sfbaytimes.com/event/martinis-writers-literary-speakeasy/
END:VEVENT
END:VCALENDAR