BEGIN:VCALENDAR
VERSION:2.0
PRODID:-//San Francisco Bay Times - ECPv5.1.0//NONSGML v1.0//EN
CALSCALE:GREGORIAN
METHOD:PUBLISH
X-WR-CALNAME:San Francisco Bay Times
X-ORIGINAL-URL:https://sfbaytimes.com
X-WR-CALDESC:Events for San Francisco Bay Times
BEGIN:VTIMEZONE
TZID:America/Los_Angeles
BEGIN:DAYLIGHT
TZOFFSETFROM:-0800
TZOFFSETTO:-0700
TZNAME:PDT
DTSTART:20190310T100000
END:DAYLIGHT
BEGIN:STANDARD
TZOFFSETFROM:-0700
TZOFFSETTO:-0800
TZNAME:PST
DTSTART:20191103T090000
END:STANDARD
END:VTIMEZONE
BEGIN:VEVENT
DTSTART;TZID=America/Los_Angeles:20190202T100000
DTEND;TZID=America/Los_Angeles:20190202T180000
DTSTAMP:20260420T093540
CREATED:20190124T233609Z
LAST-MODIFIED:20190124T233609Z
UID:21687-1549101600-1549130400@sfbaytimes.com
SUMMARY:LGBTQAI Two-Spirits Native American Powwow
DESCRIPTION:@ Fort Mason\, Festival Pavilion. Opening with a procession of dancers\, the event will include vendors offering food\, jewelry and other crafts along with drumming and dance contests. 10am-6pm. http://www.baaits.org \n
URL:https://sfbaytimes.com/event/lgbtqai-two-spirits-native-american-powwow/
END:VEVENT
END:VCALENDAR