BEGIN:VCALENDAR
VERSION:2.0
PRODID:-//San Francisco Bay Times - ECPv5.1.0//NONSGML v1.0//EN
CALSCALE:GREGORIAN
METHOD:PUBLISH
X-WR-CALNAME:San Francisco Bay Times
X-ORIGINAL-URL:https://sfbaytimes.com
X-WR-CALDESC:Events for San Francisco Bay Times
BEGIN:VTIMEZONE
TZID:America/Los_Angeles
BEGIN:DAYLIGHT
TZOFFSETFROM:-0800
TZOFFSETTO:-0700
TZNAME:PDT
DTSTART:20190310T100000
END:DAYLIGHT
BEGIN:STANDARD
TZOFFSETFROM:-0700
TZOFFSETTO:-0800
TZNAME:PST
DTSTART:20191103T090000
END:STANDARD
END:VTIMEZONE
BEGIN:VEVENT
DTSTART;TZID=America/Los_Angeles:20190203T140000
DTEND;TZID=America/Los_Angeles:20190203T200000
DTSTAMP:20260420T110836
CREATED:20190124T233654Z
LAST-MODIFIED:20190124T233654Z
UID:21689-1549202400-1549224000@sfbaytimes.com
SUMMARY:DRIP - A Queer Daytime Dance Party
DESCRIPTION:@ El Rio\, 3158 Mission Street. A QTPOC and friends party creating a safe space for all queer and trans folx with djs and gogos. 2-8pm. http://www.elriosf.com \n
URL:https://sfbaytimes.com/event/drip-queer-daytime-dance-party/
END:VEVENT
BEGIN:VEVENT
DTSTART;TZID=America/Los_Angeles:20190203T150000
DTEND;TZID=America/Los_Angeles:20190203T150000
DTSTAMP:20260420T110836
CREATED:20190124T233730Z
LAST-MODIFIED:20190124T233730Z
UID:21691-1549206000-1549206000@sfbaytimes.com
SUMMARY:Super Bowl Sunday Unleash! Dance Party
DESCRIPTION:@ The Ivy Room\, 860 San Pablo Avenue\, Albany. DJ Page Hodel and DJ Mysdefy will spin tunes for this monthly 1st Sunday dance party. 3pm. http://www.ivyroom.com \n
URL:https://sfbaytimes.com/event/super-bowl-sunday-unleash-dance-party/
END:VEVENT
BEGIN:VEVENT
DTSTART;TZID=America/Los_Angeles:20190203T160000
DTEND;TZID=America/Los_Angeles:20190203T180000
DTSTAMP:20260420T110836
CREATED:20190225T190928Z
LAST-MODIFIED:20190225T190928Z
UID:22045-1549209600-1549216800@sfbaytimes.com
SUMMARY:The Girls Film Screening
DESCRIPTION:@ Roxie Theater\, 3117 16th Street. The screening is the West Coast debut of the documentary exploring the lives of young women in post-revolution Iran by award-winning filmmaker Fery Malek-Madani. 4-6pm. http://www.roxie.com \n
URL:https://sfbaytimes.com/event/girls-film-screening/
END:VEVENT
BEGIN:VEVENT
DTSTART;TZID=America/Los_Angeles:20190203T200000
DTEND;TZID=America/Los_Angeles:20190203T200000
DTSTAMP:20260420T110836
CREATED:20190225T191122Z
LAST-MODIFIED:20190225T191122Z
UID:22049-1549224000-1549224000@sfbaytimes.com
SUMMARY:REAF’s One Night Only
DESCRIPTION:@ Brava Theater\, 2781 24th Street. This benefit cabaret\, supporting Broadway Cares/Equity Fights AIDS and Richmond/Ermet Aid Foundation (REAF) features cast members from Broadway’s Hello Dolly! with guest emcee Katya Smirnoff-Skyy. 8pm. http://www.reaf.org \n
URL:https://sfbaytimes.com/event/reafs-one-night/
END:VEVENT
END:VCALENDAR