BEGIN:VCALENDAR
VERSION:2.0
PRODID:-//San Francisco Bay Times - ECPv5.1.0//NONSGML v1.0//EN
CALSCALE:GREGORIAN
METHOD:PUBLISH
X-WR-CALNAME:San Francisco Bay Times
X-ORIGINAL-URL:https://sfbaytimes.com
X-WR-CALDESC:Events for San Francisco Bay Times
BEGIN:VTIMEZONE
TZID:America/Los_Angeles
BEGIN:DAYLIGHT
TZOFFSETFROM:-0800
TZOFFSETTO:-0700
TZNAME:PDT
DTSTART:20190310T100000
END:DAYLIGHT
BEGIN:STANDARD
TZOFFSETFROM:-0700
TZOFFSETTO:-0800
TZNAME:PST
DTSTART:20191103T090000
END:STANDARD
END:VTIMEZONE
BEGIN:VEVENT
DTSTART;TZID=America/Los_Angeles:20190208T200000
DTEND;TZID=America/Los_Angeles:20190208T200000
DTSTAMP:20260420T112154
CREATED:20190206T231524Z
LAST-MODIFIED:20190206T231524Z
UID:21727-1549656000-1549656000@sfbaytimes.com
SUMMARY:Platform with Joe Goode Performance Group
DESCRIPTION:@ Joe Goode Annex\, 401 Alabama Street. An evening-length duet choreographed and performed by Liane Burns and Charles Slender-White\, the work is set to Holly Herndon’s album by the same name and investigates the relationships between people\, the digital spaces they occupy\, and the attendant homogeneity that arises from their echo-chamber-creating algorithms. 8pm and continues on Feb 9. http://www.factsf.org \n
URL:https://sfbaytimes.com/event/platform-joe-goode-performance-group/2019-02-08/
END:VEVENT
BEGIN:VEVENT
DTSTART;TZID=America/Los_Angeles:20190208T220000
DTEND;TZID=America/Los_Angeles:20190208T220000
DTSTAMP:20260420T112154
CREATED:20190206T231421Z
LAST-MODIFIED:20190206T231421Z
UID:21725-1549663200-1549663200@sfbaytimes.com
SUMMARY:Prissy
DESCRIPTION:@ The STUD\, 399 9th Street. Billed as the “evolution of nightlife\,” the event will include artful performance\, dJs and a catwalk to show off sassy fashions and a positive atmosphere where all are welcome. 10pm-3am. http://www.studsf.com \n
URL:https://sfbaytimes.com/event/prissy/
END:VEVENT
END:VCALENDAR