BEGIN:VCALENDAR
VERSION:2.0
PRODID:-//San Francisco Bay Times - ECPv5.1.0//NONSGML v1.0//EN
CALSCALE:GREGORIAN
METHOD:PUBLISH
X-WR-CALNAME:San Francisco Bay Times
X-ORIGINAL-URL:https://sfbaytimes.com
X-WR-CALDESC:Events for San Francisco Bay Times
BEGIN:VTIMEZONE
TZID:America/Los_Angeles
BEGIN:DAYLIGHT
TZOFFSETFROM:-0800
TZOFFSETTO:-0700
TZNAME:PDT
DTSTART:20190310T100000
END:DAYLIGHT
BEGIN:STANDARD
TZOFFSETFROM:-0700
TZOFFSETTO:-0800
TZNAME:PST
DTSTART:20191103T090000
END:STANDARD
END:VTIMEZONE
BEGIN:VEVENT
DTSTART;TZID=America/Los_Angeles:20190212T180000
DTEND;TZID=America/Los_Angeles:20190212T200000
DTSTAMP:20260420T112317
CREATED:20190206T233032Z
LAST-MODIFIED:20190206T233032Z
UID:21749-1549994400-1550001600@sfbaytimes.com
SUMMARY:Managing Credit & Debt
DESCRIPTION:@ SF LGBT Center\, 1800 Market Street. The event will present information on the origins of credit and FICO scores\, how to establish and repair credit scores\, how to pay off debt\, the connection between credit and loans and more. 6-8pm. http://www.sfcenter.org \n
URL:https://sfbaytimes.com/event/managing-credit-debt/
END:VEVENT
BEGIN:VEVENT
DTSTART;TZID=America/Los_Angeles:20190212T190000
DTEND;TZID=America/Los_Angeles:20190212T203000
DTSTAMP:20260420T112317
CREATED:20190206T233103Z
LAST-MODIFIED:20190206T233103Z
UID:21751-1549998000-1550003400@sfbaytimes.com
SUMMARY:Lesbian Love Stories
DESCRIPTION:@ Dog Eared Books Castro\, 489 Castro Street. The Perfectly Queer book group welcomes MB Austin\, Giovanna Capone\, Kathy Knowles and Cat Sellars with free red wine and chocolate plus door prizes. 7-8:30pm. http://www.dogearedbooks.com \n
URL:https://sfbaytimes.com/event/lesbian-love-stories/
END:VEVENT
END:VCALENDAR