BEGIN:VCALENDAR
VERSION:2.0
PRODID:-//San Francisco Bay Times - ECPv5.1.0//NONSGML v1.0//EN
CALSCALE:GREGORIAN
METHOD:PUBLISH
X-WR-CALNAME:San Francisco Bay Times
X-ORIGINAL-URL:https://sfbaytimes.com
X-WR-CALDESC:Events for San Francisco Bay Times
BEGIN:VTIMEZONE
TZID:America/Los_Angeles
BEGIN:DAYLIGHT
TZOFFSETFROM:-0800
TZOFFSETTO:-0700
TZNAME:PDT
DTSTART:20190310T100000
END:DAYLIGHT
BEGIN:STANDARD
TZOFFSETFROM:-0700
TZOFFSETTO:-0800
TZNAME:PST
DTSTART:20191103T090000
END:STANDARD
END:VTIMEZONE
BEGIN:VEVENT
DTSTART;TZID=America/Los_Angeles:20190213T190000
DTEND;TZID=America/Los_Angeles:20190213T210000
DTSTAMP:20260420T112315
CREATED:20190206T233241Z
LAST-MODIFIED:20190206T233241Z
UID:21753-1550084400-1550091600@sfbaytimes.com
SUMMARY:Judy\, Oz and the Need for a Shared History
DESCRIPTION:@ GLBT History Museum\, 4127 18th Street. Dee Michel\, author of Friends of Dorothy: Why Gay Boys and Gay Men Love the Wizard of Oz\, will discuss the strong connection between The Wizard of Oz film from 1939 and Anglo-American Gay male culture. 7-9pm. http://www.glbthistory.org \n
URL:https://sfbaytimes.com/event/judy-oz-need-shared-history/
END:VEVENT
BEGIN:VEVENT
DTSTART;TZID=America/Los_Angeles:20190213T190000
DTEND;TZID=America/Los_Angeles:20190213T190000
DTSTAMP:20260420T112315
CREATED:20190206T233320Z
LAST-MODIFIED:20190206T233320Z
UID:21755-1550084400-1550084400@sfbaytimes.com
SUMMARY:The LGBT Book Club: Marriage of a Thousand Lies
DESCRIPTION:@ Dog Eared Books Castro\, 489 Castro Street. The group will discuss SJ Sindu’s novel Marriage of a Thousand Lies. http://www.dogearedbooks.com \n
URL:https://sfbaytimes.com/event/lgbt-book-club-marriage-thousand-lies/
END:VEVENT
BEGIN:VEVENT
DTSTART;TZID=America/Los_Angeles:20190213T200000
DTEND;TZID=America/Los_Angeles:20190213T200000
DTSTAMP:20260420T112315
CREATED:20190206T233354Z
LAST-MODIFIED:20190206T233354Z
UID:21757-1550088000-1550088000@sfbaytimes.com
SUMMARY:Crys Matthews Dillbilly
DESCRIPTION:@ Ivy Room\, 860 San Pablo Avenue. Matthews\, is a gender-queer American roots singer-songwriter based in Oakland who is a prolific lyricist and composer blending Americana\, folk\, jazz\, blues\, bluegrass and funk. 8pm. http://www.ivyroom.com \n
URL:https://sfbaytimes.com/event/crys-matthews-dillbilly/
END:VEVENT
END:VCALENDAR