BEGIN:VCALENDAR
VERSION:2.0
PRODID:-//San Francisco Bay Times - ECPv5.1.0//NONSGML v1.0//EN
CALSCALE:GREGORIAN
METHOD:PUBLISH
X-WR-CALNAME:San Francisco Bay Times
X-ORIGINAL-URL:https://sfbaytimes.com
X-WR-CALDESC:Events for San Francisco Bay Times
BEGIN:VTIMEZONE
TZID:America/Los_Angeles
BEGIN:DAYLIGHT
TZOFFSETFROM:-0800
TZOFFSETTO:-0700
TZNAME:PDT
DTSTART:20190310T100000
END:DAYLIGHT
BEGIN:STANDARD
TZOFFSETFROM:-0700
TZOFFSETTO:-0800
TZNAME:PST
DTSTART:20191103T090000
END:STANDARD
END:VTIMEZONE
BEGIN:VEVENT
DTSTART;TZID=America/Los_Angeles:20190220T140000
DTEND;TZID=America/Los_Angeles:20190220T153000
DTSTAMP:20260420T112153
CREATED:20190208T235610Z
LAST-MODIFIED:20190208T235610Z
UID:21877-1550671200-1550676600@sfbaytimes.com
SUMMARY:Stonewall: Damn\, Daddy!
DESCRIPTION:@ Strut\, 3rd Floor\, 470 Castro Street. The event is a discussion group featuring real talk about getting older as a gay man and how to make the most of it. 2-3:30pm. http://www.strutsf.org \n
URL:https://sfbaytimes.com/event/stonewall-damn-daddy-5/
END:VEVENT
BEGIN:VEVENT
DTSTART;TZID=America/Los_Angeles:20190220T190000
DTEND;TZID=America/Los_Angeles:20190220T210000
DTSTAMP:20260420T112153
CREATED:20190208T235651Z
LAST-MODIFIED:20190208T235651Z
UID:21879-1550689200-1550696400@sfbaytimes.com
SUMMARY:Leather & LGBTQ Cultural District Community Meeting
DESCRIPTION:@ SF Catalyst\, 1060 Folsom. All are welcome to attend and join in the discussion as the new nonprofit is crafted to manage this designated south of Market neighborhood and cultural district. 7-9pm. http://sflcd.org \n
URL:https://sfbaytimes.com/event/leather-lgbtq-cultural-district-community-meeting/
END:VEVENT
BEGIN:VEVENT
DTSTART;TZID=America/Los_Angeles:20190220T190000
DTEND;TZID=America/Los_Angeles:20190220T220000
DTSTAMP:20260420T112153
CREATED:20190208T235731Z
LAST-MODIFIED:20190208T235731Z
UID:21881-1550689200-1550700000@sfbaytimes.com
SUMMARY:Mr. & Miss Golden Gate Gayme Night
DESCRIPTION:@ Brewcade SF\, 2200 Market Street #B. This monthly benefit for Strut will be hosted by Robert Rushin and Tye with food and drink specials\, arcade games\, drag performances and prizes. 7-10pm. http://www.brewcadesf.com \n
URL:https://sfbaytimes.com/event/mr-miss-golden-gate-gayme-night-3/
END:VEVENT
END:VCALENDAR