BEGIN:VCALENDAR
VERSION:2.0
PRODID:-//San Francisco Bay Times - ECPv5.1.0//NONSGML v1.0//EN
CALSCALE:GREGORIAN
METHOD:PUBLISH
X-WR-CALNAME:San Francisco Bay Times
X-ORIGINAL-URL:https://sfbaytimes.com
X-WR-CALDESC:Events for San Francisco Bay Times
BEGIN:VTIMEZONE
TZID:America/Los_Angeles
BEGIN:DAYLIGHT
TZOFFSETFROM:-0800
TZOFFSETTO:-0700
TZNAME:PDT
DTSTART:20190310T100000
END:DAYLIGHT
BEGIN:STANDARD
TZOFFSETFROM:-0700
TZOFFSETTO:-0800
TZNAME:PST
DTSTART:20191103T090000
END:STANDARD
END:VTIMEZONE
BEGIN:VEVENT
DTSTART;TZID=America/Los_Angeles:20190222T140000
DTEND;TZID=America/Los_Angeles:20190222T160000
DTSTAMP:20260420T112316
CREATED:20190208T235928Z
LAST-MODIFIED:20190208T235928Z
UID:21885-1550844000-1550851200@sfbaytimes.com
SUMMARY:Lunar New Year 2019: Celebrate the Year of the Pig!
DESCRIPTION:@ Ronald M. George State Office Complex\, 455 Golden Gate Avenue. Assemblymember David Chiu will co-host a celebration with light refreshments\, tea and entertainment. 2-4 pm. Daivd Chiu on Facebook \n
URL:https://sfbaytimes.com/event/lunar-new-year-2019-celebrate-year-pig/
END:VEVENT
BEGIN:VEVENT
DTSTART;TZID=America/Los_Angeles:20190222T173000
DTEND;TZID=America/Los_Angeles:20190222T190000
DTSTAMP:20260420T112316
CREATED:20190209T000009Z
LAST-MODIFIED:20190209T000009Z
UID:21887-1550856600-1550862000@sfbaytimes.com
SUMMARY:Our Love Is Here to Stay with Holly Near\, Jan Martinelli and Friends
DESCRIPTION:@ Ner Shalom’s New Cotati Cabaret\, 85 LaPlaza\, Cotati. A lineup of performers\, including Linda Hirschhorn\, Francisco Herrera\, Nancy Vogl and more\, will present an evening of standards and show tunes. 5:30-7pm. http://www.nershalom.org \n
URL:https://sfbaytimes.com/event/love-stay-holly-near-jan-martinelli-friends/
END:VEVENT
BEGIN:VEVENT
DTSTART;TZID=America/Los_Angeles:20190222T173000
DTEND;TZID=America/Los_Angeles:20190222T190000
DTSTAMP:20260420T112316
CREATED:20190225T183852Z
LAST-MODIFIED:20190225T183852Z
UID:22001-1550856600-1550862000@sfbaytimes.com
SUMMARY:Our Love Is Here to Stay with Holly Near\, Jan Martinelli and Friends
DESCRIPTION:@ Ner Shalom’s New Cotati Cabaret\, 85 LaPlaza\, Cotati. A lineup of performers will join Near\, including Linda Hirschhorn\, Francisco Herrera\, Nancy Vogl and more\, who will present an evening of standards and show tunes. 5:30-7pm. http://www.nershalom.org \n
URL:https://sfbaytimes.com/event/love-stay-holly-near-jan-martinelli-friends-2/
END:VEVENT
BEGIN:VEVENT
DTSTART;TZID=America/Los_Angeles:20190222T210000
DTEND;TZID=America/Los_Angeles:20190222T210000
DTSTAMP:20260420T112316
CREATED:20190209T000041Z
LAST-MODIFIED:20190209T000041Z
UID:21889-1550869200-1550869200@sfbaytimes.com
SUMMARY:Friday Nights at The Ho’
DESCRIPTION:@ White Horse Bar\, 6551 Telegraph Avenue\, Oakland. All are welcome at this landmark gay and lesbian bar. 9pm-2am. http://www.whitehorsebar.com \n
URL:https://sfbaytimes.com/event/friday-nights-ho/
END:VEVENT
BEGIN:VEVENT
DTSTART;TZID=America/Los_Angeles:20190222T210000
DTEND;TZID=America/Los_Angeles:20190222T210000
DTSTAMP:20260420T112316
CREATED:20190225T183955Z
LAST-MODIFIED:20190225T183955Z
UID:22003-1550869200-1550869200@sfbaytimes.com
SUMMARY:Friday Nights at The Ho’
DESCRIPTION:@ WhiteHorse Bar\, 6551 Telegraph Avenue\, Oakland. All are welcome at this landmark gay and lesbian bar. 9pm-2am. http://www.whitehorsebar.com \n
URL:https://sfbaytimes.com/event/friday-nights-ho-2/
END:VEVENT
END:VCALENDAR