BEGIN:VCALENDAR
VERSION:2.0
PRODID:-//San Francisco Bay Times - ECPv5.1.0//NONSGML v1.0//EN
CALSCALE:GREGORIAN
METHOD:PUBLISH
X-WR-CALNAME:San Francisco Bay Times
X-ORIGINAL-URL:https://sfbaytimes.com
X-WR-CALDESC:Events for San Francisco Bay Times
BEGIN:VTIMEZONE
TZID:America/Los_Angeles
BEGIN:DAYLIGHT
TZOFFSETFROM:-0800
TZOFFSETTO:-0700
TZNAME:PDT
DTSTART:20190310T100000
END:DAYLIGHT
BEGIN:STANDARD
TZOFFSETFROM:-0700
TZOFFSETTO:-0800
TZNAME:PST
DTSTART:20191103T090000
END:STANDARD
END:VTIMEZONE
BEGIN:VEVENT
DTSTART;TZID=America/Los_Angeles:20190225T073000
DTEND;TZID=America/Los_Angeles:20190225T160000
DTSTAMP:20260420T112304
CREATED:20190225T185244Z
LAST-MODIFIED:20190225T185244Z
UID:22021-1551079800-1551110400@sfbaytimes.com
SUMMARY:Magnificent Magnolias
DESCRIPTION:@ San Francisco Botanical Garden\, 1199 9th Avenue. Nearly 100 magnolias\, many rare and historic\, will be featured at this annual budding of pink and white blossoms. Visitors can take a docent-led tour. 7:30 am-4 pm through March 7. http://www.sfbg.org \n
URL:https://sfbaytimes.com/event/magnificent-magnolias-3/
END:VEVENT
BEGIN:VEVENT
DTSTART;TZID=America/Los_Angeles:20190225T190000
DTEND;TZID=America/Los_Angeles:20190225T190000
DTSTAMP:20260420T112304
CREATED:20190225T184803Z
LAST-MODIFIED:20190225T184803Z
UID:22019-1551121200-1551121200@sfbaytimes.com
SUMMARY:Robyn
DESCRIPTION:@ Fox Theater\, 1807 Telegraph Avenue\, Oakland. Swedish recording artist Robyn performs at The Fox for two nights\, also appearing on Tuesday\, February 26. 7pm. http://www.robyn.com \n
URL:https://sfbaytimes.com/event/robyn/
END:VEVENT
BEGIN:VEVENT
DTSTART;TZID=America/Los_Angeles:20190225T190000
DTEND;TZID=America/Los_Angeles:20190225T190000
DTSTAMP:20260420T112304
CREATED:20190225T185502Z
LAST-MODIFIED:20190225T185502Z
UID:22023-1551121200-1551121200@sfbaytimes.com
SUMMARY:Hello\, Dolly!
DESCRIPTION:@ SHN Golden Gate Theatre\, 1 Taylor Street. Tony Award-winning Broadway star Betty Buckley appears in the revival of this classic musical. Multiple times and dates through March 17. http://www.bit.ly/HelloDolly-SF \n
URL:https://sfbaytimes.com/event/hello-dolly/
END:VEVENT
END:VCALENDAR