BEGIN:VCALENDAR
VERSION:2.0
PRODID:-//San Francisco Bay Times - ECPv5.1.0//NONSGML v1.0//EN
CALSCALE:GREGORIAN
METHOD:PUBLISH
X-WR-CALNAME:San Francisco Bay Times
X-ORIGINAL-URL:https://sfbaytimes.com
X-WR-CALDESC:Events for San Francisco Bay Times
BEGIN:VTIMEZONE
TZID:America/Los_Angeles
BEGIN:DAYLIGHT
TZOFFSETFROM:-0800
TZOFFSETTO:-0700
TZNAME:PDT
DTSTART:20190310T100000
END:DAYLIGHT
BEGIN:STANDARD
TZOFFSETFROM:-0700
TZOFFSETTO:-0800
TZNAME:PST
DTSTART:20191103T090000
END:STANDARD
END:VTIMEZONE
BEGIN:VEVENT
DTSTART;TZID=America/Los_Angeles:20190228T160000
DTEND;TZID=America/Los_Angeles:20190228T203000
DTSTAMP:20260420T112306
CREATED:20190225T185816Z
LAST-MODIFIED:20190225T185918Z
UID:22029-1551369600-1551385800@sfbaytimes.com
SUMMARY:Carnaval Brasileiro Celebration
DESCRIPTION:@ Aguilas El Ambiente\, 1800 Market Street\, 4th Floor. Free HIV and STD testing\, food\, games\, prizes\, entertainment and more will be included in this event sponsored by the nonprofit supporting gay men of Latino heritage. 4-8:30pm. http://www.sfaguilas.org \n
URL:https://sfbaytimes.com/event/carnaval-brasileiro-celebration/
END:VEVENT
BEGIN:VEVENT
DTSTART;TZID=America/Los_Angeles:20190228T190000
DTEND;TZID=America/Los_Angeles:20190228T210000
DTSTAMP:20260420T112306
CREATED:20190225T190053Z
LAST-MODIFIED:20190225T190053Z
UID:22031-1551380400-1551387600@sfbaytimes.com
SUMMARY:Fighting Back | Love\, Marriage and Queers: 15 Years of Bliss?
DESCRIPTION:@ GLBT History Museum\, 4127 18th Street. The latest in the “Fighting Back” series\, the event will include a panel discussion on the history and outcomes of the marriage equality movement in San Francisco and nationally. 7–9pm. http://www.glbthistory.com \n
URL:https://sfbaytimes.com/event/fighting-back-love-marriage-queers-15-years-bliss/
END:VEVENT
END:VCALENDAR