BEGIN:VCALENDAR
VERSION:2.0
PRODID:-//San Francisco Bay Times - ECPv5.1.0//NONSGML v1.0//EN
CALSCALE:GREGORIAN
METHOD:PUBLISH
X-WR-CALNAME:San Francisco Bay Times
X-ORIGINAL-URL:https://sfbaytimes.com
X-WR-CALDESC:Events for San Francisco Bay Times
BEGIN:VTIMEZONE
TZID:America/Los_Angeles
BEGIN:DAYLIGHT
TZOFFSETFROM:-0800
TZOFFSETTO:-0700
TZNAME:PDT
DTSTART:20190310T100000
END:DAYLIGHT
BEGIN:STANDARD
TZOFFSETFROM:-0700
TZOFFSETTO:-0800
TZNAME:PST
DTSTART:20191103T090000
END:STANDARD
END:VTIMEZONE
BEGIN:VEVENT
DTSTART;TZID=America/Los_Angeles:20190302T180000
DTEND;TZID=America/Los_Angeles:20190302T213000
DTSTAMP:20260420T125743
CREATED:20190225T190456Z
LAST-MODIFIED:20190225T190456Z
UID:22039-1551549600-1551562200@sfbaytimes.com
SUMMARY:Bal Masque XVI - Bohemian Royalty: A Glam Rock Revolution
DESCRIPTION:@ The Café\, 2369 Market Street. Hosted by Krewe de Kinque\, this annual event celebrates Mardi Gras traditions with traditional cuisine\, costumes\, performances plus the crowing of a king and queen and more. 6-9:30pm. https://bpt.me/4078612 \n
URL:https://sfbaytimes.com/event/bal-masque-xvi-bohemian-royalty-glam-rock-revolution/
END:VEVENT
BEGIN:VEVENT
DTSTART;TZID=America/Los_Angeles:20190302T193000
DTEND;TZID=America/Los_Angeles:20190302T193000
DTSTAMP:20260420T125743
CREATED:20190225T190613Z
LAST-MODIFIED:20190225T190613Z
UID:22041-1551555000-1551555000@sfbaytimes.com
SUMMARY:Mamma Mia!
DESCRIPTION:@ Notre Dame de Namur University Theatre\, 1540 Ralston Avenue\, Belmont. LGBT community favorite Amy Meyers performs as “Donna” in this musical based on the legendary music of ABBA. 7:30pm. Also on March 3. https://bit.ly/2V5L0Sf \n
URL:https://sfbaytimes.com/event/mamma-mia/
END:VEVENT
END:VCALENDAR