BEGIN:VCALENDAR
VERSION:2.0
PRODID:-//San Francisco Bay Times - ECPv5.1.0//NONSGML v1.0//EN
CALSCALE:GREGORIAN
METHOD:PUBLISH
X-WR-CALNAME:San Francisco Bay Times
X-ORIGINAL-URL:https://sfbaytimes.com
X-WR-CALDESC:Events for San Francisco Bay Times
BEGIN:VTIMEZONE
TZID:America/Los_Angeles
BEGIN:DAYLIGHT
TZOFFSETFROM:-0800
TZOFFSETTO:-0700
TZNAME:PDT
DTSTART:20190310T100000
END:DAYLIGHT
BEGIN:STANDARD
TZOFFSETFROM:-0700
TZOFFSETTO:-0800
TZNAME:PST
DTSTART:20191103T090000
END:STANDARD
END:VTIMEZONE
BEGIN:VEVENT
DTSTART;VALUE=DATE:20190307
DTEND;VALUE=DATE:20190308
DTSTAMP:20260420T125712
CREATED:20190306T235403Z
LAST-MODIFIED:20190306T235403Z
UID:22096-1551916800-1552003199@sfbaytimes.com
SUMMARY:HERstory: Past\, Present\, Future
DESCRIPTION:@ Multiple Locations of SF Public Library. The Library celebrates Women’s History Month with a lineup of events at the Main Library\, Branch locations and other venues. http://www.sfpl.org/HERstory.org \n
URL:https://sfbaytimes.com/event/herstory-past-present-future/
END:VEVENT
BEGIN:VEVENT
DTSTART;TZID=America/Los_Angeles:20190307T180000
DTEND;TZID=America/Los_Angeles:20190307T193000
DTSTAMP:20260420T125712
CREATED:20190225T191536Z
LAST-MODIFIED:20190225T191536Z
UID:22059-1551981600-1551987000@sfbaytimes.com
SUMMARY:Rainbow Toastmasters
DESCRIPTION:@ St Francis Lutheran Church\, 152 Church Street. This every Thursday event is the Bay Area’s largest communications skills training resource for the LGBT community. Dinner follows at a local restaurant. 6-7:30pm. http://bit.ly/2P7Y7mC \n
URL:https://sfbaytimes.com/event/rainbow-toastmasters-5/
END:VEVENT
BEGIN:VEVENT
DTSTART;TZID=America/Los_Angeles:20190307T180000
DTEND;TZID=America/Los_Angeles:20190307T193000
DTSTAMP:20260420T125712
CREATED:20190306T235245Z
LAST-MODIFIED:20190306T235245Z
UID:22092-1551981600-1551987000@sfbaytimes.com
SUMMARY:Rainbow Toastmasters
DESCRIPTION:@ St Francis Lutheran Church\, 152 Church Street. This every Thursday event is the Bay Area’s largest communications skills training resource for the LGBT community. Dinner follows at a local restaurant. 6-7:30pm. http://bit.ly/2P7Y7mC  \n
URL:https://sfbaytimes.com/event/rainbow-toastmasters-6/
END:VEVENT
BEGIN:VEVENT
DTSTART;TZID=America/Los_Angeles:20190307T190000
DTEND;TZID=America/Los_Angeles:20190307T210000
DTSTAMP:20260420T125712
CREATED:20190225T191619Z
LAST-MODIFIED:20190225T191619Z
UID:22061-1551985200-1551992400@sfbaytimes.com
SUMMARY:Flashing After Dark: Queer Nightlife Photography Then and Now
DESCRIPTION:@ GLBT History Museum\, 4127 18th Street. A panel of photographers and writers will join Melissa Hawkins to share photos and discuss their methods. 7-9pm. http://www.glbthistory.org \n
URL:https://sfbaytimes.com/event/flashing-dark-queer-nightlife-photography-now/
END:VEVENT
BEGIN:VEVENT
DTSTART;TZID=America/Los_Angeles:20190307T190000
DTEND;TZID=America/Los_Angeles:20190307T210000
DTSTAMP:20260420T125712
CREATED:20190306T235330Z
LAST-MODIFIED:20190306T235330Z
UID:22094-1551985200-1551992400@sfbaytimes.com
SUMMARY:Flashing After Dark: Queer Nightlife Photography Then and Now
DESCRIPTION:@ GLBT History Museum\, 4127 18th Street. A panel of photographers and writers will join Melissa Hawkins to share photos and discuss their methods and more. 7-9pm. http://www.glbthistory.org \n
URL:https://sfbaytimes.com/event/flashing-dark-queer-nightlife-photography-now-2/
END:VEVENT
END:VCALENDAR