BEGIN:VCALENDAR
VERSION:2.0
PRODID:-//San Francisco Bay Times - ECPv5.1.0//NONSGML v1.0//EN
CALSCALE:GREGORIAN
METHOD:PUBLISH
X-WR-CALNAME:San Francisco Bay Times
X-ORIGINAL-URL:https://sfbaytimes.com
X-WR-CALDESC:Events for San Francisco Bay Times
BEGIN:VTIMEZONE
TZID:America/Los_Angeles
BEGIN:DAYLIGHT
TZOFFSETFROM:-0800
TZOFFSETTO:-0700
TZNAME:PDT
DTSTART:20190310T100000
END:DAYLIGHT
BEGIN:STANDARD
TZOFFSETFROM:-0700
TZOFFSETTO:-0800
TZNAME:PST
DTSTART:20191103T090000
END:STANDARD
END:VTIMEZONE
BEGIN:VEVENT
DTSTART;TZID=America/Los_Angeles:20190309T100000
DTEND;TZID=America/Los_Angeles:20190309T130000
DTSTAMP:20260422T233722
CREATED:20190307T193621Z
LAST-MODIFIED:20190307T193621Z
UID:22179-1552125600-1552136400@sfbaytimes.com
SUMMARY:Garden Work Day
DESCRIPTION:@ Harvey Milk Civil Rights Academy\, 4235 19th Street. All are welcome to join in planting\, decorating\, clean up and maintenance projects for all ages. 10am-1pm. http://www.harveymilk.com \n
URL:https://sfbaytimes.com/event/garden-work-day/
END:VEVENT
BEGIN:VEVENT
DTSTART;TZID=America/Los_Angeles:20190309T200000
DTEND;TZID=America/Los_Angeles:20190309T220000
DTSTAMP:20260422T233722
CREATED:20190307T193701Z
LAST-MODIFIED:20190307T193701Z
UID:22181-1552161600-1552168800@sfbaytimes.com
SUMMARY:The Marlenes & Friends: Women’s Voices\, Women’s Stories
DESCRIPTION:@ Caffe Chiave\, 2500 San Pablo Avenue\, Berkeley. The presenters include Marlene and Elaine Bulloch of The Marlenes\, Nancy Schimmel\, Lauren Renee Hotchkiss and Cate Larsen and Linda Atkinson from Liquid Girlfriend. 8-10pm. https://bit.ly/2EyNvWq \n
URL:https://sfbaytimes.com/event/marlenes-friends-womens-voices-womens-stories/
END:VEVENT
END:VCALENDAR