BEGIN:VCALENDAR
VERSION:2.0
PRODID:-//San Francisco Bay Times - ECPv5.1.0//NONSGML v1.0//EN
CALSCALE:GREGORIAN
METHOD:PUBLISH
X-WR-CALNAME:San Francisco Bay Times
X-ORIGINAL-URL:https://sfbaytimes.com
X-WR-CALDESC:Events for San Francisco Bay Times
BEGIN:VTIMEZONE
TZID:America/Los_Angeles
BEGIN:DAYLIGHT
TZOFFSETFROM:-0800
TZOFFSETTO:-0700
TZNAME:PDT
DTSTART:20190310T100000
END:DAYLIGHT
BEGIN:STANDARD
TZOFFSETFROM:-0700
TZOFFSETTO:-0800
TZNAME:PST
DTSTART:20191103T090000
END:STANDARD
END:VTIMEZONE
BEGIN:VEVENT
DTSTART;TZID=America/Los_Angeles:20190310T160000
DTEND;TZID=America/Los_Angeles:20190310T173000
DTSTAMP:20260422T220129
CREATED:20190307T193737Z
LAST-MODIFIED:20190307T193749Z
UID:22183-1552233600-1552239000@sfbaytimes.com
SUMMARY:Remembering James Brown
DESCRIPTION:@ The Boxcart Theatre\, 644 Broadway. A six-piece band accompanies the cast telling the story of two decades in the career of The Godfather of Soul with his passion for music and message of home. 4pm. http://www.boxcartheatre.org \n
URL:https://sfbaytimes.com/event/remembering-james-brown/
END:VEVENT
BEGIN:VEVENT
DTSTART;TZID=America/Los_Angeles:20190310T180000
DTEND;TZID=America/Los_Angeles:20190310T230000
DTSTAMP:20260422T220129
CREATED:20190307T193817Z
LAST-MODIFIED:20190307T193817Z
UID:22185-1552240800-1552258800@sfbaytimes.com
SUMMARY:Can you Feel It?
DESCRIPTION:@ Jolene’s Bar\, 2700 16th Street. BAYDJs will host this dance party featuring house\, techno\, breaks and more. 6-11pm. http://www.jolenessf.com \n
URL:https://sfbaytimes.com/event/can-you-feel-it/
END:VEVENT
END:VCALENDAR