BEGIN:VCALENDAR
VERSION:2.0
PRODID:-//San Francisco Bay Times - ECPv5.1.0//NONSGML v1.0//EN
CALSCALE:GREGORIAN
METHOD:PUBLISH
X-WR-CALNAME:San Francisco Bay Times
X-ORIGINAL-URL:https://sfbaytimes.com
X-WR-CALDESC:Events for San Francisco Bay Times
BEGIN:VTIMEZONE
TZID:America/Los_Angeles
BEGIN:DAYLIGHT
TZOFFSETFROM:-0800
TZOFFSETTO:-0700
TZNAME:PDT
DTSTART:20190310T100000
END:DAYLIGHT
BEGIN:STANDARD
TZOFFSETFROM:-0700
TZOFFSETTO:-0800
TZNAME:PST
DTSTART:20191103T090000
END:STANDARD
END:VTIMEZONE
BEGIN:VEVENT
DTSTART;TZID=America/Los_Angeles:20190316T130000
DTEND;TZID=America/Los_Angeles:20190316T160000
DTSTAMP:20260420T132026
CREATED:20190307T225530Z
LAST-MODIFIED:20190307T225530Z
UID:22282-1552741200-1552752000@sfbaytimes.com
SUMMARY:Write Away! Queer Elders Writing Workshop Public Reading
DESCRIPTION:@ 3170 23rd Street. Hosted by Openhouse\, the event will feature queer writers presenting their original works. 1-4pm. http://www.openhouse.org \n
URL:https://sfbaytimes.com/event/write-away-queer-elders-writing-workshop-public-reading/
END:VEVENT
BEGIN:VEVENT
DTSTART;TZID=America/Los_Angeles:20190316T150000
DTEND;TZID=America/Los_Angeles:20190316T150000
DTSTAMP:20260420T132026
CREATED:20190307T225605Z
LAST-MODIFIED:20190307T225605Z
UID:22284-1552748400-1552748400@sfbaytimes.com
SUMMARY:Private GLBT History Tour
DESCRIPTION:@ GLBT History Museum\, 4127 18th Street. Hosted by the San Francisco Bay Times\, the tour will be led by historian Dr. Bill Lipsky and followed by an optional visit to Harvey’s bar. 3pm. Reservations required. Inquire for details. Publisher@sfbaytimes.com or call 415-601-2113. \n
URL:https://sfbaytimes.com/event/private-glbt-history-tour/
END:VEVENT
BEGIN:VEVENT
DTSTART;TZID=America/Los_Angeles:20190316T160000
DTEND;TZID=America/Los_Angeles:20190316T173000
DTSTAMP:20260420T132026
CREATED:20190307T225649Z
LAST-MODIFIED:20190307T225649Z
UID:22286-1552752000-1552757400@sfbaytimes.com
SUMMARY:So You Think You Can Drag?
DESCRIPTION:@ The Café\, 2369 Market Street. A competitive drag show fundraiser\, the event supports the Harvey Milk Civil Rights Academy and features special guest Laganja Estranja from “RuPaul’s Drag Race.” 4pm-5:30pm. http://www.thecafesf.com \n
URL:https://sfbaytimes.com/event/think-can-drag/
END:VEVENT
BEGIN:VEVENT
DTSTART;TZID=America/Los_Angeles:20190316T200000
DTEND;TZID=America/Los_Angeles:20190316T220000
DTSTAMP:20260420T132026
CREATED:20190307T225730Z
LAST-MODIFIED:20190307T225730Z
UID:22288-1552766400-1552773600@sfbaytimes.com
SUMMARY:Bay Area Rainbow Symphony Spring Concert
DESCRIPTION:@ Wilsey Center for Opera\, 401 Van Ness Avenue. Conductor Dawn Harms directs a program including Conte’s A Copland Portrait\, Coplan’s Our Town\, Rodrigo’s Guitar Concerto and Florence Price’s Symphony No. 1 in E minor. 8-10pm. http://www.bar-sf.org \n
URL:https://sfbaytimes.com/event/bay-area-rainbow-symphony-spring-concert/
END:VEVENT
END:VCALENDAR