BEGIN:VCALENDAR
VERSION:2.0
PRODID:-//San Francisco Bay Times - ECPv5.1.0//NONSGML v1.0//EN
CALSCALE:GREGORIAN
METHOD:PUBLISH
X-WR-CALNAME:San Francisco Bay Times
X-ORIGINAL-URL:https://sfbaytimes.com
X-WR-CALDESC:Events for San Francisco Bay Times
BEGIN:VTIMEZONE
TZID:America/Los_Angeles
BEGIN:DAYLIGHT
TZOFFSETFROM:-0800
TZOFFSETTO:-0700
TZNAME:PDT
DTSTART:20190310T100000
END:DAYLIGHT
BEGIN:STANDARD
TZOFFSETFROM:-0700
TZOFFSETTO:-0800
TZNAME:PST
DTSTART:20191103T090000
END:STANDARD
END:VTIMEZONE
BEGIN:VEVENT
DTSTART;TZID=America/Los_Angeles:20190326T170000
DTEND;TZID=America/Los_Angeles:20190326T193000
DTSTAMP:20260420T125923
CREATED:20190322T035043Z
LAST-MODIFIED:20190322T035043Z
UID:22500-1553619600-1553628600@sfbaytimes.com
SUMMARY:Her Story: Bay Area Female Entrepreneurs
DESCRIPTION:@ San Francisco Main Library\, 100 Larkin Street. A panel of local entrepreneurs\, including Foreign Cinama’s Gayle Pirie\, The Charlie Cart Project’s Carolyn Federman\, Ritual Coffee’s Eileen Rinaldi\, and Antonia Kohl’s Tigerlily Perfumery\, will discuss their journeys as successful small business owners. 5-7:30pm. https://bit.ly/2UK8Enx \n
URL:https://sfbaytimes.com/event/story-bay-area-female-entrepreneurs/
END:VEVENT
BEGIN:VEVENT
DTSTART;TZID=America/Los_Angeles:20190326T200000
DTEND;TZID=America/Los_Angeles:20190326T200000
DTSTAMP:20260420T125923
CREATED:20190322T035117Z
LAST-MODIFIED:20190322T035117Z
UID:22502-1553630400-1553630400@sfbaytimes.com
SUMMARY:Donna Missal
DESCRIPTION:@ The Independent\, 628 Divisadero Street. Openly bisexual singer/songwriter and recording artist Donna Missal will perform in San Francisco prior to the launch of her upcoming headline tour. 8pm. https://www.ticketfly.com/venue/21-the-independent/ \n
URL:https://sfbaytimes.com/event/donna-missal/
END:VEVENT
END:VCALENDAR