BEGIN:VCALENDAR
VERSION:2.0
PRODID:-//San Francisco Bay Times - ECPv5.1.0//NONSGML v1.0//EN
CALSCALE:GREGORIAN
METHOD:PUBLISH
X-WR-CALNAME:San Francisco Bay Times
X-ORIGINAL-URL:https://sfbaytimes.com
X-WR-CALDESC:Events for San Francisco Bay Times
BEGIN:VTIMEZONE
TZID:America/Los_Angeles
BEGIN:DAYLIGHT
TZOFFSETFROM:-0800
TZOFFSETTO:-0700
TZNAME:PDT
DTSTART:20190310T100000
END:DAYLIGHT
BEGIN:STANDARD
TZOFFSETFROM:-0700
TZOFFSETTO:-0800
TZNAME:PST
DTSTART:20191103T090000
END:STANDARD
END:VTIMEZONE
BEGIN:VEVENT
DTSTART;TZID=America/Los_Angeles:20190410T180000
DTEND;TZID=America/Los_Angeles:20190410T193000
DTSTAMP:20260420T143008
CREATED:20190403T224333Z
LAST-MODIFIED:20190403T224333Z
UID:22614-1554919200-1554924600@sfbaytimes.com
SUMMARY:Castro/Upper Market Community Business District Meeting
DESCRIPTION:@ 693 14th Street. Meet with property owners\, managers and brokers for wine and hors d’oeuvres and a discussion on the role of CBD. 6-7:30pm. executivedirector@castrocbd.org \n
URL:https://sfbaytimes.com/event/castro-upper-market-community-business-district-meeting/
END:VEVENT
BEGIN:VEVENT
DTSTART;TZID=America/Los_Angeles:20190410T190000
DTEND;TZID=America/Los_Angeles:20190410T190000
DTSTAMP:20260420T143008
CREATED:20190403T224429Z
LAST-MODIFIED:20190403T224429Z
UID:22616-1554922800-1554922800@sfbaytimes.com
SUMMARY:Armistead Maupin’s Tales of the City
DESCRIPTION:@ Castro Theatre\, 429 Castro Street. The new Netflix series debuts as the Opening Night film for the SF International Film Festival with a post-screening interview with author Maupin and star Laura Linney. 7pm. http://www.sffilm.org \n
URL:https://sfbaytimes.com/event/armistead-maupins-tales-city/
END:VEVENT
END:VCALENDAR