BEGIN:VCALENDAR
VERSION:2.0
PRODID:-//San Francisco Bay Times - ECPv5.1.0//NONSGML v1.0//EN
CALSCALE:GREGORIAN
METHOD:PUBLISH
X-WR-CALNAME:San Francisco Bay Times
X-ORIGINAL-URL:https://sfbaytimes.com
X-WR-CALDESC:Events for San Francisco Bay Times
BEGIN:VTIMEZONE
TZID:America/Los_Angeles
BEGIN:DAYLIGHT
TZOFFSETFROM:-0800
TZOFFSETTO:-0700
TZNAME:PDT
DTSTART:20190310T100000
END:DAYLIGHT
BEGIN:STANDARD
TZOFFSETFROM:-0700
TZOFFSETTO:-0800
TZNAME:PST
DTSTART:20191103T090000
END:STANDARD
END:VTIMEZONE
BEGIN:VEVENT
DTSTART;TZID=America/Los_Angeles:20190412T200000
DTEND;TZID=America/Los_Angeles:20190412T200000
DTSTAMP:20260420T143017
CREATED:20190403T224819Z
LAST-MODIFIED:20190403T224819Z
UID:22624-1555099200-1555099200@sfbaytimes.com
SUMMARY:World On Fire
DESCRIPTION:@ California Jazz Conservatory\, 2040 Addison Street\, Berkeley. A poetry-music theatre work about climate change and related challenges by Naomi Newman\, Barbara Borden and Suzanne DiVincenzo and directed by Corey Fischer. 8pm. https://bit.ly/2VgdUPZ \n
URL:https://sfbaytimes.com/event/world-on-fire/
END:VEVENT
BEGIN:VEVENT
DTSTART;TZID=America/Los_Angeles:20190412T210000
DTEND;TZID=America/Los_Angeles:20190412T210000
DTSTAMP:20260420T143017
CREATED:20190403T224855Z
LAST-MODIFIED:20190403T224855Z
UID:22626-1555102800-1555102800@sfbaytimes.com
SUMMARY:Boy Division/Glitter Party!
DESCRIPTION:@ Cat Club SF\, 1190 Folsom Street. The second annual Glitter Party is an all-night dance experience and more. 9pm-3am. http://www.sfcatclub.com \n
URL:https://sfbaytimes.com/event/boy-division-glitter-party/
END:VEVENT
END:VCALENDAR