BEGIN:VCALENDAR
VERSION:2.0
PRODID:-//San Francisco Bay Times - ECPv5.1.0//NONSGML v1.0//EN
CALSCALE:GREGORIAN
METHOD:PUBLISH
X-WR-CALNAME:San Francisco Bay Times
X-ORIGINAL-URL:https://sfbaytimes.com
X-WR-CALDESC:Events for San Francisco Bay Times
BEGIN:VTIMEZONE
TZID:America/Los_Angeles
BEGIN:DAYLIGHT
TZOFFSETFROM:-0800
TZOFFSETTO:-0700
TZNAME:PDT
DTSTART:20190310T100000
END:DAYLIGHT
BEGIN:STANDARD
TZOFFSETFROM:-0700
TZOFFSETTO:-0800
TZNAME:PST
DTSTART:20191103T090000
END:STANDARD
END:VTIMEZONE
BEGIN:VEVENT
DTSTART;TZID=America/Los_Angeles:20190413T090000
DTEND;TZID=America/Los_Angeles:20190413T170000
DTSTAMP:20260420T143015
CREATED:20190403T224939Z
LAST-MODIFIED:20190403T224939Z
UID:22628-1555146000-1555174800@sfbaytimes.com
SUMMARY:Opening Day for Queer Stories Reign Supreme Exhibit
DESCRIPTION:@ Oakland Museum of California\, 1000 Oak Street. The four-month exhibition includes historical materials\, artifacts and archival documents along with examples of social activism\, contemporary artwork\, costumes and ephemera. http://www.museumca.org \n
URL:https://sfbaytimes.com/event/opening-day-queer-stories-reign-supreme-exhibit/
END:VEVENT
BEGIN:VEVENT
DTSTART;TZID=America/Los_Angeles:20190413T173000
DTEND;TZID=America/Los_Angeles:20190413T173000
DTSTAMP:20260420T143015
CREATED:20190403T225039Z
LAST-MODIFIED:20190403T225039Z
UID:22630-1555176600-1555176600@sfbaytimes.com
SUMMARY:SF LGBT Center Soirée Dinner & Party
DESCRIPTION:@ Terra Gallery\, 511 Harrison Street. This annual event\, featuring Juanita MORE!\, Katya Smirnoff Skyy\, DJ Lady Ryan and more\, is a benefit for The Center and its important programs. Dinner 5:30pm/Party 8:30pm. http://www.sfcenter.org/soiree2019 \n
URL:https://sfbaytimes.com/event/sf-lgbt-center-soiree-dinner-party/
END:VEVENT
BEGIN:VEVENT
DTSTART;TZID=America/Los_Angeles:20190413T183000
DTEND;TZID=America/Los_Angeles:20190413T183000
DTSTAMP:20260420T143015
CREATED:20190403T225121Z
LAST-MODIFIED:20190403T225121Z
UID:22632-1555180200-1555180200@sfbaytimes.com
SUMMARY:Poetry Reading
DESCRIPTION:@ Works in Progress\, Open Mic for Women\, Plymouth Jazz & Justice Church\, 424 Monte Vista\, Oakland. Elaine C. Brown and Kelliane Parker will be the featured poets in the program (7:30pm) following a potluck (6:30pm). steckeljan@gmail.com \n
URL:https://sfbaytimes.com/event/poetry-reading/
END:VEVENT
END:VCALENDAR