BEGIN:VCALENDAR
VERSION:2.0
PRODID:-//San Francisco Bay Times - ECPv5.1.0//NONSGML v1.0//EN
CALSCALE:GREGORIAN
METHOD:PUBLISH
X-WR-CALNAME:San Francisco Bay Times
X-ORIGINAL-URL:https://sfbaytimes.com
X-WR-CALDESC:Events for San Francisco Bay Times
BEGIN:VTIMEZONE
TZID:America/Los_Angeles
BEGIN:DAYLIGHT
TZOFFSETFROM:-0800
TZOFFSETTO:-0700
TZNAME:PDT
DTSTART:20190310T100000
END:DAYLIGHT
BEGIN:STANDARD
TZOFFSETFROM:-0700
TZOFFSETTO:-0800
TZNAME:PST
DTSTART:20191103T090000
END:STANDARD
END:VTIMEZONE
BEGIN:VEVENT
DTSTART;TZID=America/Los_Angeles:20190427T093000
DTEND;TZID=America/Los_Angeles:20190427T093000
DTSTAMP:20260420T143016
CREATED:20190422T210938Z
LAST-MODIFIED:20190422T210950Z
UID:22916-1556357400-1556357400@sfbaytimes.com
SUMMARY:April Follies Dance Competition
DESCRIPTION:@ Just Dance Ballroom\, 2500 Embarcadero\, Oakland. The event is the largest and longest-running queer partner dance competition and show in North America. 9:30am Opening/6:30pm Evening Sessions. http://www.aprilfollies.com \n
URL:https://sfbaytimes.com/event/april-follies-dance-competition/
END:VEVENT
BEGIN:VEVENT
DTSTART;TZID=America/Los_Angeles:20190427T173000
DTEND;TZID=America/Los_Angeles:20190427T173000
DTSTAMP:20260420T143016
CREATED:20190422T211025Z
LAST-MODIFIED:20190422T211025Z
UID:22918-1556386200-1556386200@sfbaytimes.com
SUMMARY:Crescendo - San Francisco Gay Men’s Chorus Awards Benefit
DESCRIPTION:@ Fairmont San Francisco\, 950 Mason. Honorees Adam Rippon and Kristin Chenoweth will be there along with Mayor London Breed\, Stephen Schwartz\, Andrew Lippa\, Honey Mahogany\, Brian Boitano and more for this reception\, dinner and after party. 5:30pm. http://www.sfgmc.org \n
URL:https://sfbaytimes.com/event/crescendo-san-francisco-gay-mens-chorus-awards-benefit/
END:VEVENT
BEGIN:VEVENT
DTSTART;TZID=America/Los_Angeles:20190427T200000
DTEND;TZID=America/Los_Angeles:20190427T200000
DTSTAMP:20260420T143016
CREATED:20190422T211339Z
LAST-MODIFIED:20190422T211339Z
UID:22920-1556395200-1556395200@sfbaytimes.com
SUMMARY:Shakespeare’s Julius Ceasar
DESCRIPTION:@ Cal Performances\, 101 Zellerbach Hall\, Berkeley. Artistic director of the Théâtre National de Bretagne\, Arthur Nauzyciel highlights the continuing relevance of Shakespeare’s great political tragedy. 8 pm and 3pm on April 28. http://www.calperformances.org \n
URL:https://sfbaytimes.com/event/shakespeares-julius-ceasar/2019-04-27/
END:VEVENT
END:VCALENDAR