BEGIN:VCALENDAR
VERSION:2.0
PRODID:-//San Francisco Bay Times - ECPv5.1.0//NONSGML v1.0//EN
CALSCALE:GREGORIAN
METHOD:PUBLISH
X-WR-CALNAME:San Francisco Bay Times
X-ORIGINAL-URL:https://sfbaytimes.com
X-WR-CALDESC:Events for San Francisco Bay Times
BEGIN:VTIMEZONE
TZID:America/Los_Angeles
BEGIN:DAYLIGHT
TZOFFSETFROM:-0800
TZOFFSETTO:-0700
TZNAME:PDT
DTSTART:20190310T100000
END:DAYLIGHT
BEGIN:STANDARD
TZOFFSETFROM:-0700
TZOFFSETTO:-0800
TZNAME:PST
DTSTART:20191103T090000
END:STANDARD
END:VTIMEZONE
BEGIN:VEVENT
DTSTART;TZID=America/Los_Angeles:20190429T183000
DTEND;TZID=America/Los_Angeles:20190429T193000
DTSTAMP:20260420T143009
CREATED:20190422T211541Z
LAST-MODIFIED:20190422T211541Z
UID:22927-1556562600-1556566200@sfbaytimes.com
SUMMARY:Kara Swisher Interviews San Francisco Mayor London Breed
DESCRIPTION:@ Manny’s\, 3092 16th Street. Tech journalist Swisher will interview the Mayor in an issues-focused conversation to be published as an episode of Swisher’s Record Decode podcast. 6:30-7:30pm. http://www.welcometomannys.com \n
URL:https://sfbaytimes.com/event/kara-swisher-interviews-san-francisco-mayor-london-breed/
END:VEVENT
BEGIN:VEVENT
DTSTART;TZID=America/Los_Angeles:20190429T193000
DTEND;TZID=America/Los_Angeles:20190429T210000
DTSTAMP:20260420T143009
CREATED:20190422T211614Z
LAST-MODIFIED:20190422T211614Z
UID:22929-1556566200-1556571600@sfbaytimes.com
SUMMARY:Strut Book Club Reads The Gentleman’s Guide to Vice and Virtue
DESCRIPTION:@ Strut\, 470 Castro Street. The monthly book club devoted to discussions of queer lit will talk about Mackenzi Lee’s novel about a young man bred to be a gentleman in England. 7:30-9pm. http://www.strutsf.org \n
URL:https://sfbaytimes.com/event/strut-book-club-reads-gentlemans-guide-vice-virtue/
END:VEVENT
END:VCALENDAR